BEGIN:VCALENDAR
VERSION:2.0
PRODID:-//schuetzenverein-elsenfeld.de - ECPv6.15.20//NONSGML v1.0//EN
CALSCALE:GREGORIAN
METHOD:PUBLISH
X-ORIGINAL-URL:https://schuetzenverein-elsenfeld.de
X-WR-CALDESC:Veranstaltungen für schuetzenverein-elsenfeld.de
REFRESH-INTERVAL;VALUE=DURATION:PT1H
X-Robots-Tag:noindex
X-PUBLISHED-TTL:PT1H
BEGIN:VTIMEZONE
TZID:Europe/Berlin
BEGIN:DAYLIGHT
TZOFFSETFROM:+0100
TZOFFSETTO:+0200
TZNAME:CEST
DTSTART:20250330T010000
END:DAYLIGHT
BEGIN:STANDARD
TZOFFSETFROM:+0200
TZOFFSETTO:+0100
TZNAME:CET
DTSTART:20251026T010000
END:STANDARD
BEGIN:DAYLIGHT
TZOFFSETFROM:+0100
TZOFFSETTO:+0200
TZNAME:CEST
DTSTART:20260329T010000
END:DAYLIGHT
BEGIN:STANDARD
TZOFFSETFROM:+0200
TZOFFSETTO:+0100
TZNAME:CET
DTSTART:20261025T010000
END:STANDARD
BEGIN:DAYLIGHT
TZOFFSETFROM:+0100
TZOFFSETTO:+0200
TZNAME:CEST
DTSTART:20270328T010000
END:DAYLIGHT
BEGIN:STANDARD
TZOFFSETFROM:+0200
TZOFFSETTO:+0100
TZNAME:CET
DTSTART:20271031T010000
END:STANDARD
END:VTIMEZONE
BEGIN:VEVENT
DTSTART;TZID=Europe/Berlin:20260423T200000
DTEND;TZID=Europe/Berlin:20260423T220000
DTSTAMP:20260423T120158
CREATED:20251130T115650Z
LAST-MODIFIED:20251130T115650Z
UID:7013-1776974400-1776981600@schuetzenverein-elsenfeld.de
SUMMARY:Training Sport/Luftpistole Erwachsene
DESCRIPTION:Training der Sport/Luftpistole (Erwachsene)
URL:https://schuetzenverein-elsenfeld.de/termin/training-sport-luftpistole-erwachsene-163/
LOCATION:Schützenhaus – Schießhalle\, Schützenhausstraße 1\, Elsenfeld\, 63820\, Deutschland
CATEGORIES:Luftpistole
END:VEVENT
BEGIN:VEVENT
DTSTART;TZID=Europe/Berlin:20260425T150000
DTEND;TZID=Europe/Berlin:20260425T180000
DTSTAMP:20260423T120158
CREATED:20251030T175815Z
LAST-MODIFIED:20251030T180027Z
UID:6183-1777129200-1777140000@schuetzenverein-elsenfeld.de
SUMMARY:Vereinsmeisterschaft Bogenschießen (WA im Freien)
DESCRIPTION:Vereinsmeisterschaft als Qualifikation für die sonstigen Meisterschaften
URL:https://schuetzenverein-elsenfeld.de/termin/vereinsmeisterschaft-bogenschiessen-2-2/
LOCATION:Schützenhaus – Schießwiese\, Schützenhausstraße 1\, Elsenfeld\, 63820\, Deutschland
CATEGORIES:Bogensport,Termine 2026,Vereinsmeisterschaft,Wettkampf Bogenabteilung
ATTACH;FMTTYPE=image/jpeg:https://schuetzenverein-elsenfeld.de/wp-content/uploads/2024/04/VM_02.jpg
END:VEVENT
BEGIN:VEVENT
DTSTART;TZID=Europe/Berlin:20260425T150000
DTEND;TZID=Europe/Berlin:20260425T180000
DTSTAMP:20260423T120158
CREATED:20251130T112709Z
LAST-MODIFIED:20251130T112709Z
UID:6781-1777129200-1777140000@schuetzenverein-elsenfeld.de
SUMMARY:Training Bogensport Erwachsene
DESCRIPTION:freies Training der Bogenabteilung für Erwachsene
URL:https://schuetzenverein-elsenfeld.de/termin/training-bogensport-erwachsene-391/
CATEGORIES:Bogensport
END:VEVENT
BEGIN:VEVENT
DTSTART;TZID=Europe/Berlin:20260427T190000
DTEND;TZID=Europe/Berlin:20260427T210000
DTSTAMP:20260423T120158
CREATED:20251130T104841Z
LAST-MODIFIED:20251130T104841Z
UID:6566-1777316400-1777323600@schuetzenverein-elsenfeld.de
SUMMARY:Training Bogensport Erwachsenen
DESCRIPTION:freies Training der Bogenabteilung für Erwachsene
URL:https://schuetzenverein-elsenfeld.de/termin/training-bogensport-erwachsenen-16/
CATEGORIES:Bogensport
END:VEVENT
BEGIN:VEVENT
DTSTART;TZID=Europe/Berlin:20260428T190000
DTEND;TZID=Europe/Berlin:20260428T220000
DTSTAMP:20260423T120158
CREATED:20251130T114000Z
LAST-MODIFIED:20251130T114000Z
UID:6882-1777402800-1777413600@schuetzenverein-elsenfeld.de
SUMMARY:Training BDS Schützengruppe GK/KK
DESCRIPTION:Training BDS Schützengruppe Elsenfeld (KK&GK)
URL:https://schuetzenverein-elsenfeld.de/termin/training-bds-schuetzengruppe-gk-kk-68/
LOCATION:Schützenhaus – Schießhalle\, Schützenhausstraße 1\, Elsenfeld\, 63820\, Deutschland
CATEGORIES:BDS Schützengruppe
END:VEVENT
BEGIN:VEVENT
DTSTART;TZID=Europe/Berlin:20260429T180000
DTEND;TZID=Europe/Berlin:20260429T193000
DTSTAMP:20260423T120158
CREATED:20251130T100715Z
LAST-MODIFIED:20251130T100715Z
UID:6293-1777485600-1777491000@schuetzenverein-elsenfeld.de
SUMMARY:Jugendtraining Bogensport
DESCRIPTION:Training der Bogenabteilung für Jugendliche bis 18 Jahre unter Anleitung eines erwachsenen Trainers (VÜL)
URL:https://schuetzenverein-elsenfeld.de/termin/jugendtraining-bogensport-95/
CATEGORIES:Bogensport
END:VEVENT
BEGIN:VEVENT
DTSTART;TZID=Europe/Berlin:20260429T193000
DTEND;TZID=Europe/Berlin:20260429T210000
DTSTAMP:20260423T120158
CREATED:20251130T110251Z
LAST-MODIFIED:20251130T110251Z
UID:6674-1777491000-1777496400@schuetzenverein-elsenfeld.de
SUMMARY:Training Bogensport Erwachsene
DESCRIPTION:freies Training der Bogenabteilung für Erwachsene
URL:https://schuetzenverein-elsenfeld.de/termin/training-bogensport-erwachsene-291/
CATEGORIES:Bogensport
END:VEVENT
BEGIN:VEVENT
DTSTART;TZID=Europe/Berlin:20260430T200000
DTEND;TZID=Europe/Berlin:20260430T220000
DTSTAMP:20260423T120158
CREATED:20251130T115650Z
LAST-MODIFIED:20251130T115650Z
UID:7014-1777579200-1777586400@schuetzenverein-elsenfeld.de
SUMMARY:Training Sport/Luftpistole Erwachsene
DESCRIPTION:Training der Sport/Luftpistole (Erwachsene)
URL:https://schuetzenverein-elsenfeld.de/termin/training-sport-luftpistole-erwachsene-164/
LOCATION:Schützenhaus – Schießhalle\, Schützenhausstraße 1\, Elsenfeld\, 63820\, Deutschland
CATEGORIES:Luftpistole
END:VEVENT
END:VCALENDAR