BEGIN:VCALENDAR
VERSION:2.0
PRODID:-//schuetzenverein-elsenfeld.de - ECPv6.15.20//NONSGML v1.0//EN
CALSCALE:GREGORIAN
METHOD:PUBLISH
X-WR-CALNAME:schuetzenverein-elsenfeld.de
X-ORIGINAL-URL:https://schuetzenverein-elsenfeld.de
X-WR-CALDESC:Veranstaltungen für schuetzenverein-elsenfeld.de
REFRESH-INTERVAL;VALUE=DURATION:PT1H
X-Robots-Tag:noindex
X-PUBLISHED-TTL:PT1H
BEGIN:VTIMEZONE
TZID:Europe/Berlin
BEGIN:DAYLIGHT
TZOFFSETFROM:+0100
TZOFFSETTO:+0200
TZNAME:CEST
DTSTART:20260329T010000
END:DAYLIGHT
BEGIN:STANDARD
TZOFFSETFROM:+0200
TZOFFSETTO:+0100
TZNAME:CET
DTSTART:20261025T010000
END:STANDARD
BEGIN:DAYLIGHT
TZOFFSETFROM:+0100
TZOFFSETTO:+0200
TZNAME:CEST
DTSTART:20270328T010000
END:DAYLIGHT
BEGIN:STANDARD
TZOFFSETFROM:+0200
TZOFFSETTO:+0100
TZNAME:CET
DTSTART:20271031T010000
END:STANDARD
BEGIN:DAYLIGHT
TZOFFSETFROM:+0100
TZOFFSETTO:+0200
TZNAME:CEST
DTSTART:20280326T010000
END:DAYLIGHT
BEGIN:STANDARD
TZOFFSETFROM:+0200
TZOFFSETTO:+0100
TZNAME:CET
DTSTART:20281029T010000
END:STANDARD
END:VTIMEZONE
BEGIN:VEVENT
DTSTART;TZID=Europe/Berlin:20271201T180000
DTEND;TZID=Europe/Berlin:20271201T193000
DTSTAMP:20260421T120551
CREATED:20251130T102131Z
LAST-MODIFIED:20251130T114959Z
UID:6352-1827684000-1827689400@schuetzenverein-elsenfeld.de
SUMMARY:Jugendtraining Bogensport
DESCRIPTION:Training der Bogenabteilung für Jugendliche bis 18 Jahre unter Anleitung eines erwachsenen Trainers (VÜL)
URL:https://schuetzenverein-elsenfeld.de/termin/jugendtraining-bogensport-154/
LOCATION:Schützenhaus – Bogenhalle\, Schützenhausstraße 1\, Elsenfeld\, 63820\, Deutschland
CATEGORIES:Bogensport,Jugend-Training
END:VEVENT
BEGIN:VEVENT
DTSTART;TZID=Europe/Berlin:20271201T193000
DTEND;TZID=Europe/Berlin:20271201T210000
DTSTAMP:20260421T120551
CREATED:20251130T112313Z
LAST-MODIFIED:20251130T112313Z
UID:6756-1827689400-1827694800@schuetzenverein-elsenfeld.de
SUMMARY:Training Bogensport Erwachsene
DESCRIPTION:freies Training der Bogenabteilung für Erwachsene
URL:https://schuetzenverein-elsenfeld.de/termin/training-bogensport-erwachsene-373/
LOCATION:Schützenhaus – Bogenhalle\, Schützenhausstraße 1\, Elsenfeld\, 63820\, Deutschland
CATEGORIES:Bogensport
END:VEVENT
BEGIN:VEVENT
DTSTART;TZID=Europe/Berlin:20271202T200000
DTEND;TZID=Europe/Berlin:20271202T220000
DTSTAMP:20260421T120551
CREATED:20251130T152311Z
LAST-MODIFIED:20251130T152311Z
UID:7134-1827777600-1827784800@schuetzenverein-elsenfeld.de
SUMMARY:Training Sport/Luftpistole Erwachsene
DESCRIPTION:Training der Sport/Luftpistole (Erwachsene)
URL:https://schuetzenverein-elsenfeld.de/termin/training-sport-luftpistole-erwachsene-237-2-2-2-2-2-2/
LOCATION:Schützenhaus – Schießhalle\, Schützenhausstraße 1\, Elsenfeld\, 63820\, Deutschland
CATEGORIES:Luftpistole
END:VEVENT
BEGIN:VEVENT
DTSTART;TZID=Europe/Berlin:20271204T160000
DTEND;TZID=Europe/Berlin:20271204T180000
DTSTAMP:20260421T120551
CREATED:20251130T152447Z
LAST-MODIFIED:20251130T152447Z
UID:7144-1827936000-1827943200@schuetzenverein-elsenfeld.de
SUMMARY:Training Bogensport Erwachsene
DESCRIPTION:freies Training der Bogenabteilung für Erwachsene
URL:https://schuetzenverein-elsenfeld.de/termin/training-bogensport-erwachsene-469-2/
CATEGORIES:Bogensport
END:VEVENT
BEGIN:VEVENT
DTSTART;TZID=Europe/Berlin:20271206T190000
DTEND;TZID=Europe/Berlin:20271206T210000
DTSTAMP:20260421T120551
CREATED:20251130T110008Z
LAST-MODIFIED:20251130T110008Z
UID:6647-1828119600-1828126800@schuetzenverein-elsenfeld.de
SUMMARY:Training Bogensport Erwachsenen
DESCRIPTION:freies Training der Bogenabteilung für Erwachsene
URL:https://schuetzenverein-elsenfeld.de/termin/training-bogensport-erwachsenen-97/
LOCATION:Schützenhaus – Bogenhalle\, Schützenhausstraße 1\, Elsenfeld\, 63820\, Deutschland
CATEGORIES:Bogensport
END:VEVENT
BEGIN:VEVENT
DTSTART;TZID=Europe/Berlin:20271207T190000
DTEND;TZID=Europe/Berlin:20271207T220000
DTSTAMP:20260421T120551
CREATED:20251130T115921Z
LAST-MODIFIED:20251130T115921Z
UID:7061-1828206000-1828216800@schuetzenverein-elsenfeld.de
SUMMARY:Training BDS Schützengruppe GK/KK
DESCRIPTION:Training BDS Schützengruppe Elsenfeld (KK&GK)
URL:https://schuetzenverein-elsenfeld.de/termin/training-bds-schuetzengruppe-gk-kk-142-2-2-2-2-2-2-2-2-2-2/
LOCATION:Schützenhaus – Schießhalle\, Schützenhausstraße 1\, Elsenfeld\, 63820\, Deutschland
CATEGORIES:BDS Schützengruppe
END:VEVENT
BEGIN:VEVENT
DTSTART;TZID=Europe/Berlin:20271208T180000
DTEND;TZID=Europe/Berlin:20271208T193000
DTSTAMP:20260421T120551
CREATED:20251130T102131Z
LAST-MODIFIED:20251130T115114Z
UID:6353-1828288800-1828294200@schuetzenverein-elsenfeld.de
SUMMARY:Jugendtraining Bogensport
DESCRIPTION:Training der Bogenabteilung für Jugendliche bis 18 Jahre unter Anleitung eines erwachsenen Trainers (VÜL)
URL:https://schuetzenverein-elsenfeld.de/termin/jugendtraining-bogensport-155/
LOCATION:Schützenhaus – Bogenhalle\, Schützenhausstraße 1\, Elsenfeld\, 63820\, Deutschland
CATEGORIES:Bogensport,Jugend-Training
END:VEVENT
BEGIN:VEVENT
DTSTART;TZID=Europe/Berlin:20271208T193000
DTEND;TZID=Europe/Berlin:20271208T210000
DTSTAMP:20260421T120551
CREATED:20251130T112313Z
LAST-MODIFIED:20251130T112313Z
UID:6757-1828294200-1828299600@schuetzenverein-elsenfeld.de
SUMMARY:Training Bogensport Erwachsene
DESCRIPTION:freies Training der Bogenabteilung für Erwachsene
URL:https://schuetzenverein-elsenfeld.de/termin/training-bogensport-erwachsene-374/
LOCATION:Schützenhaus – Bogenhalle\, Schützenhausstraße 1\, Elsenfeld\, 63820\, Deutschland
CATEGORIES:Bogensport
END:VEVENT
BEGIN:VEVENT
DTSTART;TZID=Europe/Berlin:20271209T200000
DTEND;TZID=Europe/Berlin:20271209T220000
DTSTAMP:20260421T120551
CREATED:20251130T152326Z
LAST-MODIFIED:20251130T152326Z
UID:7136-1828382400-1828389600@schuetzenverein-elsenfeld.de
SUMMARY:Training Sport/Luftpistole Erwachsene
DESCRIPTION:Training der Sport/Luftpistole (Erwachsene)
URL:https://schuetzenverein-elsenfeld.de/termin/training-sport-luftpistole-erwachsene-237-2-2-2-2-2-2-2/
LOCATION:Schützenhaus – Schießhalle\, Schützenhausstraße 1\, Elsenfeld\, 63820\, Deutschland
CATEGORIES:Luftpistole
END:VEVENT
BEGIN:VEVENT
DTSTART;TZID=Europe/Berlin:20271211T160000
DTEND;TZID=Europe/Berlin:20271211T180000
DTSTAMP:20260421T120551
CREATED:20251130T152503Z
LAST-MODIFIED:20251130T152503Z
UID:7146-1828540800-1828548000@schuetzenverein-elsenfeld.de
SUMMARY:Training Bogensport Erwachsene
DESCRIPTION:freies Training der Bogenabteilung für Erwachsene
URL:https://schuetzenverein-elsenfeld.de/termin/training-bogensport-erwachsene-469-2-2/
CATEGORIES:Bogensport
END:VEVENT
BEGIN:VEVENT
DTSTART;TZID=Europe/Berlin:20271213T190000
DTEND;TZID=Europe/Berlin:20271213T210000
DTSTAMP:20260421T120551
CREATED:20251130T110009Z
LAST-MODIFIED:20251130T110009Z
UID:6648-1828724400-1828731600@schuetzenverein-elsenfeld.de
SUMMARY:Training Bogensport Erwachsenen
DESCRIPTION:freies Training der Bogenabteilung für Erwachsene
URL:https://schuetzenverein-elsenfeld.de/termin/training-bogensport-erwachsenen-98/
LOCATION:Schützenhaus – Bogenhalle\, Schützenhausstraße 1\, Elsenfeld\, 63820\, Deutschland
CATEGORIES:Bogensport
END:VEVENT
BEGIN:VEVENT
DTSTART;TZID=Europe/Berlin:20271214T190000
DTEND;TZID=Europe/Berlin:20271214T220000
DTSTAMP:20260421T120551
CREATED:20251130T115930Z
LAST-MODIFIED:20251130T115930Z
UID:7063-1828810800-1828821600@schuetzenverein-elsenfeld.de
SUMMARY:Training BDS Schützengruppe GK/KK
DESCRIPTION:Training BDS Schützengruppe Elsenfeld (KK&GK)
URL:https://schuetzenverein-elsenfeld.de/termin/training-bds-schuetzengruppe-gk-kk-142-2-2-2-2-2-2-2-2-2-2-2/
LOCATION:Schützenhaus – Schießhalle\, Schützenhausstraße 1\, Elsenfeld\, 63820\, Deutschland
CATEGORIES:BDS Schützengruppe
END:VEVENT
BEGIN:VEVENT
DTSTART;TZID=Europe/Berlin:20271215T180000
DTEND;TZID=Europe/Berlin:20271215T193000
DTSTAMP:20260421T120551
CREATED:20251130T102131Z
LAST-MODIFIED:20251130T115137Z
UID:6354-1828893600-1828899000@schuetzenverein-elsenfeld.de
SUMMARY:Jugendtraining Bogensport
DESCRIPTION:Training der Bogenabteilung für Jugendliche bis 18 Jahre unter Anleitung eines erwachsenen Trainers (VÜL)
URL:https://schuetzenverein-elsenfeld.de/termin/jugendtraining-bogensport-156/
LOCATION:Schützenhaus – Bogenhalle\, Schützenhausstraße 1\, Elsenfeld\, 63820\, Deutschland
CATEGORIES:Bogensport,Jugend-Training
END:VEVENT
BEGIN:VEVENT
DTSTART;TZID=Europe/Berlin:20271215T193000
DTEND;TZID=Europe/Berlin:20271215T210000
DTSTAMP:20260421T120551
CREATED:20251130T115303Z
LAST-MODIFIED:20251130T115303Z
UID:6985-1828899000-1828904400@schuetzenverein-elsenfeld.de
SUMMARY:Training Bogensport Erwachsene
DESCRIPTION:freies Training der Bogenabteilung für Erwachsene
URL:https://schuetzenverein-elsenfeld.de/termin/training-bogensport-erwachsene-374-2/
LOCATION:Schützenhaus – Bogenhalle\, Schützenhausstraße 1\, Elsenfeld\, 63820\, Deutschland
CATEGORIES:Bogensport,Erwachsenen-Training
END:VEVENT
BEGIN:VEVENT
DTSTART;TZID=Europe/Berlin:20271216T200000
DTEND;TZID=Europe/Berlin:20271216T220000
DTSTAMP:20260421T120551
CREATED:20251130T152335Z
LAST-MODIFIED:20251130T152335Z
UID:7138-1828987200-1828994400@schuetzenverein-elsenfeld.de
SUMMARY:Training Sport/Luftpistole Erwachsene
DESCRIPTION:Training der Sport/Luftpistole (Erwachsene)
URL:https://schuetzenverein-elsenfeld.de/termin/training-sport-luftpistole-erwachsene-237-2-2-2-2-2-2-2-2/
LOCATION:Schützenhaus – Schießhalle\, Schützenhausstraße 1\, Elsenfeld\, 63820\, Deutschland
CATEGORIES:Luftpistole
END:VEVENT
BEGIN:VEVENT
DTSTART;TZID=Europe/Berlin:20271218T160000
DTEND;TZID=Europe/Berlin:20271218T180000
DTSTAMP:20260421T120551
CREATED:20251130T152512Z
LAST-MODIFIED:20251130T152512Z
UID:7148-1829145600-1829152800@schuetzenverein-elsenfeld.de
SUMMARY:Training Bogensport Erwachsene
DESCRIPTION:freies Training der Bogenabteilung für Erwachsene
URL:https://schuetzenverein-elsenfeld.de/termin/training-bogensport-erwachsene-469-2-2-2/
CATEGORIES:Bogensport
END:VEVENT
BEGIN:VEVENT
DTSTART;TZID=Europe/Berlin:20271220T190000
DTEND;TZID=Europe/Berlin:20271220T210000
DTSTAMP:20260421T120551
CREATED:20251130T110009Z
LAST-MODIFIED:20251130T110009Z
UID:6649-1829329200-1829336400@schuetzenverein-elsenfeld.de
SUMMARY:Training Bogensport Erwachsenen
DESCRIPTION:freies Training der Bogenabteilung für Erwachsene
URL:https://schuetzenverein-elsenfeld.de/termin/training-bogensport-erwachsenen-99/
LOCATION:Schützenhaus – Bogenhalle\, Schützenhausstraße 1\, Elsenfeld\, 63820\, Deutschland
CATEGORIES:Bogensport
END:VEVENT
BEGIN:VEVENT
DTSTART;TZID=Europe/Berlin:20271221T190000
DTEND;TZID=Europe/Berlin:20271221T220000
DTSTAMP:20260421T120551
CREATED:20251130T115945Z
LAST-MODIFIED:20251130T115945Z
UID:7065-1829415600-1829426400@schuetzenverein-elsenfeld.de
SUMMARY:Training BDS Schützengruppe GK/KK
DESCRIPTION:Training BDS Schützengruppe Elsenfeld (KK&GK)
URL:https://schuetzenverein-elsenfeld.de/termin/training-bds-schuetzengruppe-gk-kk-142-2-2-2-2-2-2-2-2-2-2-2-2/
LOCATION:Schützenhaus – Schießhalle\, Schützenhausstraße 1\, Elsenfeld\, 63820\, Deutschland
CATEGORIES:BDS Schützengruppe
END:VEVENT
BEGIN:VEVENT
DTSTART;TZID=Europe/Berlin:20271222T180000
DTEND;TZID=Europe/Berlin:20271222T193000
DTSTAMP:20260421T120551
CREATED:20251130T102158Z
LAST-MODIFIED:20251130T115153Z
UID:6355-1829498400-1829503800@schuetzenverein-elsenfeld.de
SUMMARY:Jugendtraining Bogensport
DESCRIPTION:Training der Bogenabteilung für Jugendliche bis 18 Jahre unter Anleitung eines erwachsenen Trainers (VÜL)
URL:https://schuetzenverein-elsenfeld.de/termin/jugendtraining-bogensport-157/
LOCATION:Schützenhaus – Bogenhalle\, Schützenhausstraße 1\, Elsenfeld\, 63820\, Deutschland
CATEGORIES:Bogensport,Jugend-Training
END:VEVENT
BEGIN:VEVENT
DTSTART;TZID=Europe/Berlin:20271222T193000
DTEND;TZID=Europe/Berlin:20271222T210000
DTSTAMP:20260421T120551
CREATED:20251130T115349Z
LAST-MODIFIED:20251130T115349Z
UID:6989-1829503800-1829509200@schuetzenverein-elsenfeld.de
SUMMARY:Training Bogensport Erwachsene
DESCRIPTION:freies Training der Bogenabteilung für Erwachsene
URL:https://schuetzenverein-elsenfeld.de/termin/training-bogensport-erwachsene-374-2-2-2/
LOCATION:Schützenhaus – Bogenhalle\, Schützenhausstraße 1\, Elsenfeld\, 63820\, Deutschland
CATEGORIES:Bogensport,Erwachsenen-Training
END:VEVENT
BEGIN:VEVENT
DTSTART;TZID=Europe/Berlin:20271223T200000
DTEND;TZID=Europe/Berlin:20271223T220000
DTSTAMP:20260421T120551
CREATED:20251130T152401Z
LAST-MODIFIED:20251130T152401Z
UID:7142-1829592000-1829599200@schuetzenverein-elsenfeld.de
SUMMARY:Training Sport/Luftpistole Erwachsene
DESCRIPTION:Training der Sport/Luftpistole (Erwachsene)
URL:https://schuetzenverein-elsenfeld.de/termin/training-sport-luftpistole-erwachsene-237-2-2-2-2-2-2-2-2-2-2/
LOCATION:Schützenhaus – Schießhalle\, Schützenhausstraße 1\, Elsenfeld\, 63820\, Deutschland
CATEGORIES:Luftpistole
END:VEVENT
BEGIN:VEVENT
DTSTART;TZID=Europe/Berlin:20271227T190000
DTEND;TZID=Europe/Berlin:20271227T210000
DTSTAMP:20260421T120551
CREATED:20251130T110009Z
LAST-MODIFIED:20251130T110009Z
UID:6650-1829934000-1829941200@schuetzenverein-elsenfeld.de
SUMMARY:Training Bogensport Erwachsenen
DESCRIPTION:freies Training der Bogenabteilung für Erwachsene
URL:https://schuetzenverein-elsenfeld.de/termin/training-bogensport-erwachsenen-100/
LOCATION:Schützenhaus – Bogenhalle\, Schützenhausstraße 1\, Elsenfeld\, 63820\, Deutschland
CATEGORIES:Bogensport
END:VEVENT
BEGIN:VEVENT
DTSTART;TZID=Europe/Berlin:20271228T190000
DTEND;TZID=Europe/Berlin:20271228T220000
DTSTAMP:20260421T120551
CREATED:20251130T115955Z
LAST-MODIFIED:20251130T115955Z
UID:7067-1830020400-1830031200@schuetzenverein-elsenfeld.de
SUMMARY:Training BDS Schützengruppe GK/KK
DESCRIPTION:Training BDS Schützengruppe Elsenfeld (KK&GK)
URL:https://schuetzenverein-elsenfeld.de/termin/training-bds-schuetzengruppe-gk-kk-142-2-2-2-2-2-2-2-2-2-2-2-2-2/
LOCATION:Schützenhaus – Schießhalle\, Schützenhausstraße 1\, Elsenfeld\, 63820\, Deutschland
CATEGORIES:BDS Schützengruppe
END:VEVENT
BEGIN:VEVENT
DTSTART;TZID=Europe/Berlin:20271229T180000
DTEND;TZID=Europe/Berlin:20271229T193000
DTSTAMP:20260421T120551
CREATED:20251130T115202Z
LAST-MODIFIED:20251130T115202Z
UID:6983-1830103200-1830108600@schuetzenverein-elsenfeld.de
SUMMARY:Jugendtraining Bogensport
DESCRIPTION:Training der Bogenabteilung für Jugendliche bis 18 Jahre unter Anleitung eines erwachsenen Trainers (VÜL)
URL:https://schuetzenverein-elsenfeld.de/termin/jugendtraining-bogensport-157-2/
LOCATION:Schützenhaus – Bogenhalle\, Schützenhausstraße 1\, Elsenfeld\, 63820\, Deutschland
CATEGORIES:Bogensport,Jugend-Training
END:VEVENT
BEGIN:VEVENT
DTSTART;TZID=Europe/Berlin:20271229T193000
DTEND;TZID=Europe/Berlin:20271229T210000
DTSTAMP:20260421T120551
CREATED:20251130T115316Z
LAST-MODIFIED:20251130T115322Z
UID:6987-1830108600-1830114000@schuetzenverein-elsenfeld.de
SUMMARY:Training Bogensport Erwachsene
DESCRIPTION:freies Training der Bogenabteilung für Erwachsene
URL:https://schuetzenverein-elsenfeld.de/termin/training-bogensport-erwachsene-374-2-2/
LOCATION:Schützenhaus – Bogenhalle\, Schützenhausstraße 1\, Elsenfeld\, 63820\, Deutschland
CATEGORIES:Bogensport,Erwachsenen-Training
END:VEVENT
BEGIN:VEVENT
DTSTART;TZID=Europe/Berlin:20271230T200000
DTEND;TZID=Europe/Berlin:20271230T220000
DTSTAMP:20260421T120551
CREATED:20251130T152344Z
LAST-MODIFIED:20251130T152344Z
UID:7140-1830196800-1830204000@schuetzenverein-elsenfeld.de
SUMMARY:Training Sport/Luftpistole Erwachsene
DESCRIPTION:Training der Sport/Luftpistole (Erwachsene)
URL:https://schuetzenverein-elsenfeld.de/termin/training-sport-luftpistole-erwachsene-237-2-2-2-2-2-2-2-2-2/
LOCATION:Schützenhaus – Schießhalle\, Schützenhausstraße 1\, Elsenfeld\, 63820\, Deutschland
CATEGORIES:Luftpistole
END:VEVENT
END:VCALENDAR