BEGIN:VCALENDAR
VERSION:2.0
PRODID:-//schuetzenverein-elsenfeld.de - ECPv6.15.20//NONSGML v1.0//EN
CALSCALE:GREGORIAN
METHOD:PUBLISH
X-ORIGINAL-URL:https://schuetzenverein-elsenfeld.de
X-WR-CALDESC:Veranstaltungen für schuetzenverein-elsenfeld.de
REFRESH-INTERVAL;VALUE=DURATION:PT1H
X-Robots-Tag:noindex
X-PUBLISHED-TTL:PT1H
BEGIN:VTIMEZONE
TZID:Europe/Berlin
BEGIN:DAYLIGHT
TZOFFSETFROM:+0100
TZOFFSETTO:+0200
TZNAME:CEST
DTSTART:20260329T010000
END:DAYLIGHT
BEGIN:STANDARD
TZOFFSETFROM:+0200
TZOFFSETTO:+0100
TZNAME:CET
DTSTART:20261025T010000
END:STANDARD
BEGIN:DAYLIGHT
TZOFFSETFROM:+0100
TZOFFSETTO:+0200
TZNAME:CEST
DTSTART:20270328T010000
END:DAYLIGHT
BEGIN:STANDARD
TZOFFSETFROM:+0200
TZOFFSETTO:+0100
TZNAME:CET
DTSTART:20271031T010000
END:STANDARD
BEGIN:DAYLIGHT
TZOFFSETFROM:+0100
TZOFFSETTO:+0200
TZNAME:CEST
DTSTART:20280326T010000
END:DAYLIGHT
BEGIN:STANDARD
TZOFFSETFROM:+0200
TZOFFSETTO:+0100
TZNAME:CET
DTSTART:20281029T010000
END:STANDARD
END:VTIMEZONE
BEGIN:VEVENT
DTSTART;TZID=Europe/Berlin:20271101T190000
DTEND;TZID=Europe/Berlin:20271101T210000
DTSTAMP:20260421T103350
CREATED:20251130T105958Z
LAST-MODIFIED:20251130T105958Z
UID:6642-1825095600-1825102800@schuetzenverein-elsenfeld.de
SUMMARY:Training Bogensport Erwachsenen
DESCRIPTION:freies Training der Bogenabteilung für Erwachsene
URL:https://schuetzenverein-elsenfeld.de/termin/training-bogensport-erwachsenen-92/
LOCATION:Schützenhaus – Bogenhalle\, Schützenhausstraße 1\, Elsenfeld\, 63820\, Deutschland
CATEGORIES:Bogensport
END:VEVENT
BEGIN:VEVENT
DTSTART;TZID=Europe/Berlin:20271102T190000
DTEND;TZID=Europe/Berlin:20271102T220000
DTSTAMP:20260421T103350
CREATED:20251130T115833Z
LAST-MODIFIED:20251130T115833Z
UID:7051-1825182000-1825192800@schuetzenverein-elsenfeld.de
SUMMARY:Training BDS Schützengruppe GK/KK
DESCRIPTION:Training BDS Schützengruppe Elsenfeld (KK&GK)
URL:https://schuetzenverein-elsenfeld.de/termin/training-bds-schuetzengruppe-gk-kk-142-2-2-2-2-2/
LOCATION:Schützenhaus – Schießhalle\, Schützenhausstraße 1\, Elsenfeld\, 63820\, Deutschland
CATEGORIES:BDS Schützengruppe
END:VEVENT
BEGIN:VEVENT
DTSTART;TZID=Europe/Berlin:20271103T180000
DTEND;TZID=Europe/Berlin:20271103T193000
DTSTAMP:20260421T103350
CREATED:20251130T115051Z
LAST-MODIFIED:20251130T115051Z
UID:6979-1825264800-1825270200@schuetzenverein-elsenfeld.de
SUMMARY:Jugendtraining Bogensport
DESCRIPTION:Training der Bogenabteilung für Jugendliche bis 18 Jahre unter Anleitung eines erwachsenen Trainers (VÜL)
URL:https://schuetzenverein-elsenfeld.de/termin/jugendtraining-bogensport-154-2/
LOCATION:Schützenhaus – Bogenhalle\, Schützenhausstraße 1\, Elsenfeld\, 63820\, Deutschland
CATEGORIES:Bogensport,Jugend-Training
END:VEVENT
BEGIN:VEVENT
DTSTART;TZID=Europe/Berlin:20271103T193000
DTEND;TZID=Europe/Berlin:20271103T210000
DTSTAMP:20260421T103350
CREATED:20251130T112119Z
LAST-MODIFIED:20251130T112119Z
UID:6752-1825270200-1825275600@schuetzenverein-elsenfeld.de
SUMMARY:Training Bogensport Erwachsene
DESCRIPTION:freies Training der Bogenabteilung für Erwachsene
URL:https://schuetzenverein-elsenfeld.de/termin/training-bogensport-erwachsene-369/
LOCATION:Schützenhaus – Bogenhalle\, Schützenhausstraße 1\, Elsenfeld\, 63820\, Deutschland
CATEGORIES:Bogensport
END:VEVENT
BEGIN:VEVENT
DTSTART;TZID=Europe/Berlin:20271104T200000
DTEND;TZID=Europe/Berlin:20271104T220000
DTSTAMP:20260421T103350
CREATED:20251130T152224Z
LAST-MODIFIED:20251130T152224Z
UID:7126-1825358400-1825365600@schuetzenverein-elsenfeld.de
SUMMARY:Training Sport/Luftpistole Erwachsene
DESCRIPTION:Training der Sport/Luftpistole (Erwachsene)
URL:https://schuetzenverein-elsenfeld.de/termin/training-sport-luftpistole-erwachsene-237-2-2/
LOCATION:Schützenhaus – Schießhalle\, Schützenhausstraße 1\, Elsenfeld\, 63820\, Deutschland
CATEGORIES:Luftpistole
END:VEVENT
BEGIN:VEVENT
DTSTART;TZID=Europe/Berlin:20271106T160000
DTEND;TZID=Europe/Berlin:20271106T180000
DTSTAMP:20260421T103350
CREATED:20251130T113807Z
LAST-MODIFIED:20251130T113807Z
UID:6856-1825516800-1825524000@schuetzenverein-elsenfeld.de
SUMMARY:Training Bogensport Erwachsene
DESCRIPTION:freies Training der Bogenabteilung für Erwachsene
URL:https://schuetzenverein-elsenfeld.de/termin/training-bogensport-erwachsene-466/
CATEGORIES:Bogensport
END:VEVENT
BEGIN:VEVENT
DTSTART;TZID=Europe/Berlin:20271108T190000
DTEND;TZID=Europe/Berlin:20271108T210000
DTSTAMP:20260421T103350
CREATED:20251130T105958Z
LAST-MODIFIED:20251130T105958Z
UID:6643-1825700400-1825707600@schuetzenverein-elsenfeld.de
SUMMARY:Training Bogensport Erwachsenen
DESCRIPTION:freies Training der Bogenabteilung für Erwachsene
URL:https://schuetzenverein-elsenfeld.de/termin/training-bogensport-erwachsenen-93/
LOCATION:Schützenhaus – Bogenhalle\, Schützenhausstraße 1\, Elsenfeld\, 63820\, Deutschland
CATEGORIES:Bogensport
END:VEVENT
BEGIN:VEVENT
DTSTART;TZID=Europe/Berlin:20271109T190000
DTEND;TZID=Europe/Berlin:20271109T220000
DTSTAMP:20260421T103350
CREATED:20251130T115842Z
LAST-MODIFIED:20251130T115842Z
UID:7053-1825786800-1825797600@schuetzenverein-elsenfeld.de
SUMMARY:Training BDS Schützengruppe GK/KK
DESCRIPTION:Training BDS Schützengruppe Elsenfeld (KK&GK)
URL:https://schuetzenverein-elsenfeld.de/termin/training-bds-schuetzengruppe-gk-kk-142-2-2-2-2-2-2/
LOCATION:Schützenhaus – Schießhalle\, Schützenhausstraße 1\, Elsenfeld\, 63820\, Deutschland
CATEGORIES:BDS Schützengruppe
END:VEVENT
BEGIN:VEVENT
DTSTART;TZID=Europe/Berlin:20271110T180000
DTEND;TZID=Europe/Berlin:20271110T193000
DTSTAMP:20260421T103350
CREATED:20251130T102131Z
LAST-MODIFIED:20251130T114907Z
UID:6350-1825869600-1825875000@schuetzenverein-elsenfeld.de
SUMMARY:Jugendtraining Bogensport
DESCRIPTION:Training der Bogenabteilung für Jugendliche bis 18 Jahre unter Anleitung eines erwachsenen Trainers (VÜL)
URL:https://schuetzenverein-elsenfeld.de/termin/jugendtraining-bogensport-152/
LOCATION:Schützenhaus – Bogenhalle\, Schützenhausstraße 1\, Elsenfeld\, 63820\, Deutschland
CATEGORIES:Bogensport,Jugend-Training
END:VEVENT
BEGIN:VEVENT
DTSTART;TZID=Europe/Berlin:20271110T193000
DTEND;TZID=Europe/Berlin:20271110T210000
DTSTAMP:20260421T103350
CREATED:20251130T112312Z
LAST-MODIFIED:20251130T112312Z
UID:6753-1825875000-1825880400@schuetzenverein-elsenfeld.de
SUMMARY:Training Bogensport Erwachsene
DESCRIPTION:freies Training der Bogenabteilung für Erwachsene
URL:https://schuetzenverein-elsenfeld.de/termin/training-bogensport-erwachsene-370/
LOCATION:Schützenhaus – Bogenhalle\, Schützenhausstraße 1\, Elsenfeld\, 63820\, Deutschland
CATEGORIES:Bogensport
END:VEVENT
BEGIN:VEVENT
DTSTART;TZID=Europe/Berlin:20271111T200000
DTEND;TZID=Europe/Berlin:20271111T220000
DTSTAMP:20260421T103350
CREATED:20251130T152235Z
LAST-MODIFIED:20251130T152235Z
UID:7128-1825963200-1825970400@schuetzenverein-elsenfeld.de
SUMMARY:Training Sport/Luftpistole Erwachsene
DESCRIPTION:Training der Sport/Luftpistole (Erwachsene)
URL:https://schuetzenverein-elsenfeld.de/termin/training-sport-luftpistole-erwachsene-237-2-2-2/
LOCATION:Schützenhaus – Schießhalle\, Schützenhausstraße 1\, Elsenfeld\, 63820\, Deutschland
CATEGORIES:Luftpistole
END:VEVENT
BEGIN:VEVENT
DTSTART;TZID=Europe/Berlin:20271113T160000
DTEND;TZID=Europe/Berlin:20271113T180000
DTSTAMP:20260421T103350
CREATED:20251130T113808Z
LAST-MODIFIED:20251130T113808Z
UID:6857-1826121600-1826128800@schuetzenverein-elsenfeld.de
SUMMARY:Training Bogensport Erwachsene
DESCRIPTION:freies Training der Bogenabteilung für Erwachsene
URL:https://schuetzenverein-elsenfeld.de/termin/training-bogensport-erwachsene-467/
CATEGORIES:Bogensport
END:VEVENT
BEGIN:VEVENT
DTSTART;TZID=Europe/Berlin:20271115T190000
DTEND;TZID=Europe/Berlin:20271115T210000
DTSTAMP:20260421T103350
CREATED:20251130T105959Z
LAST-MODIFIED:20251130T105959Z
UID:6644-1826305200-1826312400@schuetzenverein-elsenfeld.de
SUMMARY:Training Bogensport Erwachsenen
DESCRIPTION:freies Training der Bogenabteilung für Erwachsene
URL:https://schuetzenverein-elsenfeld.de/termin/training-bogensport-erwachsenen-94/
LOCATION:Schützenhaus – Bogenhalle\, Schützenhausstraße 1\, Elsenfeld\, 63820\, Deutschland
CATEGORIES:Bogensport
END:VEVENT
BEGIN:VEVENT
DTSTART;TZID=Europe/Berlin:20271116T190000
DTEND;TZID=Europe/Berlin:20271116T220000
DTSTAMP:20260421T103350
CREATED:20251130T115851Z
LAST-MODIFIED:20251130T115851Z
UID:7055-1826391600-1826402400@schuetzenverein-elsenfeld.de
SUMMARY:Training BDS Schützengruppe GK/KK
DESCRIPTION:Training BDS Schützengruppe Elsenfeld (KK&GK)
URL:https://schuetzenverein-elsenfeld.de/termin/training-bds-schuetzengruppe-gk-kk-142-2-2-2-2-2-2-2/
LOCATION:Schützenhaus – Schießhalle\, Schützenhausstraße 1\, Elsenfeld\, 63820\, Deutschland
CATEGORIES:BDS Schützengruppe
END:VEVENT
BEGIN:VEVENT
DTSTART;TZID=Europe/Berlin:20271117T180000
DTEND;TZID=Europe/Berlin:20271117T193000
DTSTAMP:20260421T103350
CREATED:20251130T114921Z
LAST-MODIFIED:20251130T114921Z
UID:6975-1826474400-1826479800@schuetzenverein-elsenfeld.de
SUMMARY:Jugendtraining Bogensport
DESCRIPTION:Training der Bogenabteilung für Jugendliche bis 18 Jahre unter Anleitung eines erwachsenen Trainers (VÜL)
URL:https://schuetzenverein-elsenfeld.de/termin/jugendtraining-bogensport-152-2/
LOCATION:Schützenhaus – Bogenhalle\, Schützenhausstraße 1\, Elsenfeld\, 63820\, Deutschland
CATEGORIES:Bogensport,Jugend-Training
END:VEVENT
BEGIN:VEVENT
DTSTART;TZID=Europe/Berlin:20271117T193000
DTEND;TZID=Europe/Berlin:20271117T210000
DTSTAMP:20260421T103350
CREATED:20251130T112312Z
LAST-MODIFIED:20251130T112312Z
UID:6754-1826479800-1826485200@schuetzenverein-elsenfeld.de
SUMMARY:Training Bogensport Erwachsene
DESCRIPTION:freies Training der Bogenabteilung für Erwachsene
URL:https://schuetzenverein-elsenfeld.de/termin/training-bogensport-erwachsene-371/
LOCATION:Schützenhaus – Bogenhalle\, Schützenhausstraße 1\, Elsenfeld\, 63820\, Deutschland
CATEGORIES:Bogensport
END:VEVENT
BEGIN:VEVENT
DTSTART;TZID=Europe/Berlin:20271118T200000
DTEND;TZID=Europe/Berlin:20271118T220000
DTSTAMP:20260421T103350
CREATED:20251130T152247Z
LAST-MODIFIED:20251130T152247Z
UID:7130-1826568000-1826575200@schuetzenverein-elsenfeld.de
SUMMARY:Training Sport/Luftpistole Erwachsene
DESCRIPTION:Training der Sport/Luftpistole (Erwachsene)
URL:https://schuetzenverein-elsenfeld.de/termin/training-sport-luftpistole-erwachsene-237-2-2-2-2/
LOCATION:Schützenhaus – Schießhalle\, Schützenhausstraße 1\, Elsenfeld\, 63820\, Deutschland
CATEGORIES:Luftpistole
END:VEVENT
BEGIN:VEVENT
DTSTART;TZID=Europe/Berlin:20271120T160000
DTEND;TZID=Europe/Berlin:20271120T180000
DTSTAMP:20260421T103350
CREATED:20251130T113808Z
LAST-MODIFIED:20251130T113808Z
UID:6858-1826726400-1826733600@schuetzenverein-elsenfeld.de
SUMMARY:Training Bogensport Erwachsene
DESCRIPTION:freies Training der Bogenabteilung für Erwachsene
URL:https://schuetzenverein-elsenfeld.de/termin/training-bogensport-erwachsene-468/
CATEGORIES:Bogensport
END:VEVENT
BEGIN:VEVENT
DTSTART;TZID=Europe/Berlin:20271122T190000
DTEND;TZID=Europe/Berlin:20271122T210000
DTSTAMP:20260421T103350
CREATED:20251130T105959Z
LAST-MODIFIED:20251130T105959Z
UID:6645-1826910000-1826917200@schuetzenverein-elsenfeld.de
SUMMARY:Training Bogensport Erwachsenen
DESCRIPTION:freies Training der Bogenabteilung für Erwachsene
URL:https://schuetzenverein-elsenfeld.de/termin/training-bogensport-erwachsenen-95/
LOCATION:Schützenhaus – Bogenhalle\, Schützenhausstraße 1\, Elsenfeld\, 63820\, Deutschland
CATEGORIES:Bogensport
END:VEVENT
BEGIN:VEVENT
DTSTART;TZID=Europe/Berlin:20271123T190000
DTEND;TZID=Europe/Berlin:20271123T220000
DTSTAMP:20260421T103350
CREATED:20251130T115901Z
LAST-MODIFIED:20251130T115901Z
UID:7057-1826996400-1827007200@schuetzenverein-elsenfeld.de
SUMMARY:Training BDS Schützengruppe GK/KK
DESCRIPTION:Training BDS Schützengruppe Elsenfeld (KK&GK)
URL:https://schuetzenverein-elsenfeld.de/termin/training-bds-schuetzengruppe-gk-kk-142-2-2-2-2-2-2-2-2/
LOCATION:Schützenhaus – Schießhalle\, Schützenhausstraße 1\, Elsenfeld\, 63820\, Deutschland
CATEGORIES:BDS Schützengruppe
END:VEVENT
BEGIN:VEVENT
DTSTART;TZID=Europe/Berlin:20271124T180000
DTEND;TZID=Europe/Berlin:20271124T193000
DTSTAMP:20260421T103350
CREATED:20251130T102131Z
LAST-MODIFIED:20251130T114938Z
UID:6351-1827079200-1827084600@schuetzenverein-elsenfeld.de
SUMMARY:Jugendtraining Bogensport
DESCRIPTION:Training der Bogenabteilung für Jugendliche bis 18 Jahre unter Anleitung eines erwachsenen Trainers (VÜL)
URL:https://schuetzenverein-elsenfeld.de/termin/jugendtraining-bogensport-153/
LOCATION:Schützenhaus – Bogenhalle\, Schützenhausstraße 1\, Elsenfeld\, 63820\, Deutschland
CATEGORIES:Bogensport,Jugend-Training
END:VEVENT
BEGIN:VEVENT
DTSTART;TZID=Europe/Berlin:20271124T193000
DTEND;TZID=Europe/Berlin:20271124T210000
DTSTAMP:20260421T103350
CREATED:20251130T112313Z
LAST-MODIFIED:20251130T112313Z
UID:6755-1827084600-1827090000@schuetzenverein-elsenfeld.de
SUMMARY:Training Bogensport Erwachsene
DESCRIPTION:freies Training der Bogenabteilung für Erwachsene
URL:https://schuetzenverein-elsenfeld.de/termin/training-bogensport-erwachsene-372/
LOCATION:Schützenhaus – Bogenhalle\, Schützenhausstraße 1\, Elsenfeld\, 63820\, Deutschland
CATEGORIES:Bogensport
END:VEVENT
BEGIN:VEVENT
DTSTART;TZID=Europe/Berlin:20271125T200000
DTEND;TZID=Europe/Berlin:20271125T220000
DTSTAMP:20260421T103350
CREATED:20251130T152256Z
LAST-MODIFIED:20251130T152256Z
UID:7132-1827172800-1827180000@schuetzenverein-elsenfeld.de
SUMMARY:Training Sport/Luftpistole Erwachsene
DESCRIPTION:Training der Sport/Luftpistole (Erwachsene)
URL:https://schuetzenverein-elsenfeld.de/termin/training-sport-luftpistole-erwachsene-237-2-2-2-2-2/
LOCATION:Schützenhaus – Schießhalle\, Schützenhausstraße 1\, Elsenfeld\, 63820\, Deutschland
CATEGORIES:Luftpistole
END:VEVENT
BEGIN:VEVENT
DTSTART;TZID=Europe/Berlin:20271127T160000
DTEND;TZID=Europe/Berlin:20271127T180000
DTSTAMP:20260421T103350
CREATED:20251130T113808Z
LAST-MODIFIED:20251130T113808Z
UID:6859-1827331200-1827338400@schuetzenverein-elsenfeld.de
SUMMARY:Training Bogensport Erwachsene
DESCRIPTION:freies Training der Bogenabteilung für Erwachsene
URL:https://schuetzenverein-elsenfeld.de/termin/training-bogensport-erwachsene-469/
CATEGORIES:Bogensport
END:VEVENT
BEGIN:VEVENT
DTSTART;TZID=Europe/Berlin:20271129T190000
DTEND;TZID=Europe/Berlin:20271129T210000
DTSTAMP:20260421T103350
CREATED:20251130T110008Z
LAST-MODIFIED:20251130T110008Z
UID:6646-1827514800-1827522000@schuetzenverein-elsenfeld.de
SUMMARY:Training Bogensport Erwachsenen
DESCRIPTION:freies Training der Bogenabteilung für Erwachsene
URL:https://schuetzenverein-elsenfeld.de/termin/training-bogensport-erwachsenen-96/
LOCATION:Schützenhaus – Bogenhalle\, Schützenhausstraße 1\, Elsenfeld\, 63820\, Deutschland
CATEGORIES:Bogensport
END:VEVENT
BEGIN:VEVENT
DTSTART;TZID=Europe/Berlin:20271130T190000
DTEND;TZID=Europe/Berlin:20271130T220000
DTSTAMP:20260421T103350
CREATED:20251130T115910Z
LAST-MODIFIED:20251130T115910Z
UID:7059-1827601200-1827612000@schuetzenverein-elsenfeld.de
SUMMARY:Training BDS Schützengruppe GK/KK
DESCRIPTION:Training BDS Schützengruppe Elsenfeld (KK&GK)
URL:https://schuetzenverein-elsenfeld.de/termin/training-bds-schuetzengruppe-gk-kk-142-2-2-2-2-2-2-2-2-2/
LOCATION:Schützenhaus – Schießhalle\, Schützenhausstraße 1\, Elsenfeld\, 63820\, Deutschland
CATEGORIES:BDS Schützengruppe
END:VEVENT
END:VCALENDAR