BEGIN:VCALENDAR
VERSION:2.0
PRODID:-//schuetzenverein-elsenfeld.de - ECPv6.15.20//NONSGML v1.0//EN
CALSCALE:GREGORIAN
METHOD:PUBLISH
X-ORIGINAL-URL:https://schuetzenverein-elsenfeld.de
X-WR-CALDESC:Veranstaltungen für schuetzenverein-elsenfeld.de
REFRESH-INTERVAL;VALUE=DURATION:PT1H
X-Robots-Tag:noindex
X-PUBLISHED-TTL:PT1H
BEGIN:VTIMEZONE
TZID:Europe/Berlin
BEGIN:DAYLIGHT
TZOFFSETFROM:+0100
TZOFFSETTO:+0200
TZNAME:CEST
DTSTART:20250330T010000
END:DAYLIGHT
BEGIN:STANDARD
TZOFFSETFROM:+0200
TZOFFSETTO:+0100
TZNAME:CET
DTSTART:20251026T010000
END:STANDARD
BEGIN:DAYLIGHT
TZOFFSETFROM:+0100
TZOFFSETTO:+0200
TZNAME:CEST
DTSTART:20260329T010000
END:DAYLIGHT
BEGIN:STANDARD
TZOFFSETFROM:+0200
TZOFFSETTO:+0100
TZNAME:CET
DTSTART:20261025T010000
END:STANDARD
BEGIN:DAYLIGHT
TZOFFSETFROM:+0100
TZOFFSETTO:+0200
TZNAME:CEST
DTSTART:20270328T010000
END:DAYLIGHT
BEGIN:STANDARD
TZOFFSETFROM:+0200
TZOFFSETTO:+0100
TZNAME:CET
DTSTART:20271031T010000
END:STANDARD
BEGIN:DAYLIGHT
TZOFFSETFROM:+0100
TZOFFSETTO:+0200
TZNAME:CEST
DTSTART:20280326T010000
END:DAYLIGHT
BEGIN:STANDARD
TZOFFSETFROM:+0200
TZOFFSETTO:+0100
TZNAME:CET
DTSTART:20281029T010000
END:STANDARD
END:VTIMEZONE
BEGIN:VEVENT
DTSTART;TZID=Europe/Berlin:20261128T160000
DTEND;TZID=Europe/Berlin:20261128T180000
DTSTAMP:20260424T010214
CREATED:20251130T113056Z
LAST-MODIFIED:20251130T113056Z
UID:6809-1795881600-1795888800@schuetzenverein-elsenfeld.de
SUMMARY:Training Bogensport Erwachsene
DESCRIPTION:freies Training der Bogenabteilung für Erwachsene
URL:https://schuetzenverein-elsenfeld.de/termin/training-bogensport-erwachsene-419/
CATEGORIES:Bogensport
END:VEVENT
BEGIN:VEVENT
DTSTART;TZID=Europe/Berlin:20261130T190000
DTEND;TZID=Europe/Berlin:20261130T210000
DTSTAMP:20260424T010214
CREATED:20251130T105542Z
LAST-MODIFIED:20251130T105542Z
UID:6596-1796065200-1796072400@schuetzenverein-elsenfeld.de
SUMMARY:Training Bogensport Erwachsenen
DESCRIPTION:freies Training der Bogenabteilung für Erwachsene
URL:https://schuetzenverein-elsenfeld.de/termin/training-bogensport-erwachsenen-46/
LOCATION:Schützenhaus – Bogenhalle\, Schützenhausstraße 1\, Elsenfeld\, 63820\, Deutschland
CATEGORIES:Bogensport
END:VEVENT
BEGIN:VEVENT
DTSTART;TZID=Europe/Berlin:20261201T190000
DTEND;TZID=Europe/Berlin:20261201T220000
DTSTAMP:20260424T010214
CREATED:20251130T114227Z
LAST-MODIFIED:20251130T114227Z
UID:6923-1796151600-1796162400@schuetzenverein-elsenfeld.de
SUMMARY:Training BDS Schützengruppe GK/KK
DESCRIPTION:Training BDS Schützengruppe Elsenfeld (KK&GK)
URL:https://schuetzenverein-elsenfeld.de/termin/training-bds-schuetzengruppe-gk-kk-99/
LOCATION:Schützenhaus – Schießhalle\, Schützenhausstraße 1\, Elsenfeld\, 63820\, Deutschland
CATEGORIES:BDS Schützengruppe
END:VEVENT
BEGIN:VEVENT
DTSTART;TZID=Europe/Berlin:20261202T180000
DTEND;TZID=Europe/Berlin:20261202T193000
DTSTAMP:20260424T010214
CREATED:20251130T100815Z
LAST-MODIFIED:20251130T100815Z
UID:6314-1796234400-1796239800@schuetzenverein-elsenfeld.de
SUMMARY:Jugendtraining Bogensport
DESCRIPTION:Training der Bogenabteilung für Jugendliche bis 18 Jahre unter Anleitung eines erwachsenen Trainers (VÜL)
URL:https://schuetzenverein-elsenfeld.de/termin/jugendtraining-bogensport-116/
LOCATION:Schützenhaus – Bogenhalle\, Schützenhausstraße 1\, Elsenfeld\, 63820\, Deutschland
CATEGORIES:Bogensport
END:VEVENT
BEGIN:VEVENT
DTSTART;TZID=Europe/Berlin:20261202T193000
DTEND;TZID=Europe/Berlin:20261202T210000
DTSTAMP:20260424T010214
CREATED:20251130T111312Z
LAST-MODIFIED:20251130T111312Z
UID:6705-1796239800-1796245200@schuetzenverein-elsenfeld.de
SUMMARY:Training Bogensport Erwachsene
DESCRIPTION:freies Training der Bogenabteilung für Erwachsene
URL:https://schuetzenverein-elsenfeld.de/termin/training-bogensport-erwachsene-322/
LOCATION:Schützenhaus – Bogenhalle\, Schützenhausstraße 1\, Elsenfeld\, 63820\, Deutschland
CATEGORIES:Bogensport
END:VEVENT
BEGIN:VEVENT
DTSTART;TZID=Europe/Berlin:20261203T200000
DTEND;TZID=Europe/Berlin:20261203T220000
DTSTAMP:20260424T010214
CREATED:20251130T120005Z
LAST-MODIFIED:20251130T120006Z
UID:7069-1796328000-1796335200@schuetzenverein-elsenfeld.de
SUMMARY:Training Sport/Luftpistole Erwachsene
DESCRIPTION:Training der Sport/Luftpistole (Erwachsene)
URL:https://schuetzenverein-elsenfeld.de/termin/training-sport-luftpistole-erwachsene-193/
LOCATION:Schützenhaus – Schießhalle\, Schützenhausstraße 1\, Elsenfeld\, 63820\, Deutschland
CATEGORIES:Luftpistole
END:VEVENT
BEGIN:VEVENT
DTSTART;TZID=Europe/Berlin:20261205T160000
DTEND;TZID=Europe/Berlin:20261205T180000
DTSTAMP:20260424T010214
CREATED:20251130T113257Z
LAST-MODIFIED:20251130T113257Z
UID:6810-1796486400-1796493600@schuetzenverein-elsenfeld.de
SUMMARY:Training Bogensport Erwachsene
DESCRIPTION:freies Training der Bogenabteilung für Erwachsene
URL:https://schuetzenverein-elsenfeld.de/termin/training-bogensport-erwachsene-420/
CATEGORIES:Bogensport
END:VEVENT
BEGIN:VEVENT
DTSTART;TZID=Europe/Berlin:20261207T190000
DTEND;TZID=Europe/Berlin:20261207T210000
DTSTAMP:20260424T010214
CREATED:20251130T105542Z
LAST-MODIFIED:20251130T105542Z
UID:6597-1796670000-1796677200@schuetzenverein-elsenfeld.de
SUMMARY:Training Bogensport Erwachsenen
DESCRIPTION:freies Training der Bogenabteilung für Erwachsene
URL:https://schuetzenverein-elsenfeld.de/termin/training-bogensport-erwachsenen-47/
LOCATION:Schützenhaus – Bogenhalle\, Schützenhausstraße 1\, Elsenfeld\, 63820\, Deutschland
CATEGORIES:Bogensport
END:VEVENT
BEGIN:VEVENT
DTSTART;TZID=Europe/Berlin:20261208T190000
DTEND;TZID=Europe/Berlin:20261208T220000
DTSTAMP:20260424T010214
CREATED:20251130T114227Z
LAST-MODIFIED:20251130T114227Z
UID:6924-1796756400-1796767200@schuetzenverein-elsenfeld.de
SUMMARY:Training BDS Schützengruppe GK/KK
DESCRIPTION:Training BDS Schützengruppe Elsenfeld (KK&GK)
URL:https://schuetzenverein-elsenfeld.de/termin/training-bds-schuetzengruppe-gk-kk-100/
LOCATION:Schützenhaus – Schießhalle\, Schützenhausstraße 1\, Elsenfeld\, 63820\, Deutschland
CATEGORIES:BDS Schützengruppe
END:VEVENT
BEGIN:VEVENT
DTSTART;TZID=Europe/Berlin:20261209T180000
DTEND;TZID=Europe/Berlin:20261209T193000
DTSTAMP:20260424T010214
CREATED:20251130T101014Z
LAST-MODIFIED:20251130T101014Z
UID:6315-1796839200-1796844600@schuetzenverein-elsenfeld.de
SUMMARY:Jugendtraining Bogensport
DESCRIPTION:Training der Bogenabteilung für Jugendliche bis 18 Jahre unter Anleitung eines erwachsenen Trainers (VÜL)
URL:https://schuetzenverein-elsenfeld.de/termin/jugendtraining-bogensport-117/
LOCATION:Schützenhaus – Bogenhalle\, Schützenhausstraße 1\, Elsenfeld\, 63820\, Deutschland
CATEGORIES:Bogensport
END:VEVENT
BEGIN:VEVENT
DTSTART;TZID=Europe/Berlin:20261209T193000
DTEND;TZID=Europe/Berlin:20261209T210000
DTSTAMP:20260424T010214
CREATED:20251130T111312Z
LAST-MODIFIED:20251130T111312Z
UID:6706-1796844600-1796850000@schuetzenverein-elsenfeld.de
SUMMARY:Training Bogensport Erwachsene
DESCRIPTION:freies Training der Bogenabteilung für Erwachsene
URL:https://schuetzenverein-elsenfeld.de/termin/training-bogensport-erwachsene-323/
LOCATION:Schützenhaus – Bogenhalle\, Schützenhausstraße 1\, Elsenfeld\, 63820\, Deutschland
CATEGORIES:Bogensport
END:VEVENT
BEGIN:VEVENT
DTSTART;TZID=Europe/Berlin:20261210T200000
DTEND;TZID=Europe/Berlin:20261210T220000
DTSTAMP:20260424T010214
CREATED:20251130T120005Z
LAST-MODIFIED:20251130T120006Z
UID:7070-1796932800-1796940000@schuetzenverein-elsenfeld.de
SUMMARY:Training Sport/Luftpistole Erwachsene
DESCRIPTION:Training der Sport/Luftpistole (Erwachsene)
URL:https://schuetzenverein-elsenfeld.de/termin/training-sport-luftpistole-erwachsene-194/
LOCATION:Schützenhaus – Schießhalle\, Schützenhausstraße 1\, Elsenfeld\, 63820\, Deutschland
CATEGORIES:Luftpistole
END:VEVENT
BEGIN:VEVENT
DTSTART;TZID=Europe/Berlin:20261212T160000
DTEND;TZID=Europe/Berlin:20261212T180000
DTSTAMP:20260424T010214
CREATED:20251130T113257Z
LAST-MODIFIED:20251130T113257Z
UID:6811-1797091200-1797098400@schuetzenverein-elsenfeld.de
SUMMARY:Training Bogensport Erwachsene
DESCRIPTION:freies Training der Bogenabteilung für Erwachsene
URL:https://schuetzenverein-elsenfeld.de/termin/training-bogensport-erwachsene-421/
CATEGORIES:Bogensport
END:VEVENT
BEGIN:VEVENT
DTSTART;TZID=Europe/Berlin:20261213T170000
DTEND;TZID=Europe/Berlin:20261213T220000
DTSTAMP:20260424T010214
CREATED:20251030T180341Z
LAST-MODIFIED:20251030T180459Z
UID:6190-1797181200-1797199200@schuetzenverein-elsenfeld.de
SUMMARY:Weihnachtsfeier im Schützenhaus
DESCRIPTION:Anmeldung zur Weihnachtsfeier bitte an info@schuetzenverein-elsenfeld.de \nDie Proklamation des Schützenkönigs findet im Rahmen dieser Veranstaltung statt.
URL:https://schuetzenverein-elsenfeld.de/termin/weihnachtsfeier-im-schuetzenhaus-2-2/
LOCATION:Schützenhaus\, Schützenhausstraße 1\, Elsenfeld\, 63820\, Deutschland
CATEGORIES:Termine 2026
ATTACH;FMTTYPE=image/jpeg:https://schuetzenverein-elsenfeld.de/wp-content/uploads/2025/10/Weihnachstmann.jpg
END:VEVENT
BEGIN:VEVENT
DTSTART;TZID=Europe/Berlin:20261214T190000
DTEND;TZID=Europe/Berlin:20261214T210000
DTSTAMP:20260424T010214
CREATED:20251130T105542Z
LAST-MODIFIED:20251130T105542Z
UID:6598-1797274800-1797282000@schuetzenverein-elsenfeld.de
SUMMARY:Training Bogensport Erwachsenen
DESCRIPTION:freies Training der Bogenabteilung für Erwachsene
URL:https://schuetzenverein-elsenfeld.de/termin/training-bogensport-erwachsenen-48/
LOCATION:Schützenhaus – Bogenhalle\, Schützenhausstraße 1\, Elsenfeld\, 63820\, Deutschland
CATEGORIES:Bogensport
END:VEVENT
BEGIN:VEVENT
DTSTART;TZID=Europe/Berlin:20261215T190000
DTEND;TZID=Europe/Berlin:20261215T220000
DTSTAMP:20260424T010214
CREATED:20251130T114228Z
LAST-MODIFIED:20251130T114228Z
UID:6925-1797361200-1797372000@schuetzenverein-elsenfeld.de
SUMMARY:Training BDS Schützengruppe GK/KK
DESCRIPTION:Training BDS Schützengruppe Elsenfeld (KK&GK)
URL:https://schuetzenverein-elsenfeld.de/termin/training-bds-schuetzengruppe-gk-kk-101/
LOCATION:Schützenhaus – Schießhalle\, Schützenhausstraße 1\, Elsenfeld\, 63820\, Deutschland
CATEGORIES:BDS Schützengruppe
END:VEVENT
BEGIN:VEVENT
DTSTART;TZID=Europe/Berlin:20261216T180000
DTEND;TZID=Europe/Berlin:20261216T193000
DTSTAMP:20260424T010214
CREATED:20251130T101015Z
LAST-MODIFIED:20251130T101015Z
UID:6316-1797444000-1797449400@schuetzenverein-elsenfeld.de
SUMMARY:Jugendtraining Bogensport
DESCRIPTION:Training der Bogenabteilung für Jugendliche bis 18 Jahre unter Anleitung eines erwachsenen Trainers (VÜL)
URL:https://schuetzenverein-elsenfeld.de/termin/jugendtraining-bogensport-118/
LOCATION:Schützenhaus – Bogenhalle\, Schützenhausstraße 1\, Elsenfeld\, 63820\, Deutschland
CATEGORIES:Bogensport
END:VEVENT
BEGIN:VEVENT
DTSTART;TZID=Europe/Berlin:20261216T193000
DTEND;TZID=Europe/Berlin:20261216T210000
DTSTAMP:20260424T010214
CREATED:20251130T111313Z
LAST-MODIFIED:20251130T111313Z
UID:6707-1797449400-1797454800@schuetzenverein-elsenfeld.de
SUMMARY:Training Bogensport Erwachsene
DESCRIPTION:freies Training der Bogenabteilung für Erwachsene
URL:https://schuetzenverein-elsenfeld.de/termin/training-bogensport-erwachsene-324/
LOCATION:Schützenhaus – Bogenhalle\, Schützenhausstraße 1\, Elsenfeld\, 63820\, Deutschland
CATEGORIES:Bogensport
END:VEVENT
BEGIN:VEVENT
DTSTART;TZID=Europe/Berlin:20261217T200000
DTEND;TZID=Europe/Berlin:20261217T220000
DTSTAMP:20260424T010214
CREATED:20251130T120005Z
LAST-MODIFIED:20251130T120006Z
UID:7071-1797537600-1797544800@schuetzenverein-elsenfeld.de
SUMMARY:Training Sport/Luftpistole Erwachsene
DESCRIPTION:Training der Sport/Luftpistole (Erwachsene)
URL:https://schuetzenverein-elsenfeld.de/termin/training-sport-luftpistole-erwachsene-195/
LOCATION:Schützenhaus – Schießhalle\, Schützenhausstraße 1\, Elsenfeld\, 63820\, Deutschland
CATEGORIES:Luftpistole
END:VEVENT
BEGIN:VEVENT
DTSTART;TZID=Europe/Berlin:20261219T160000
DTEND;TZID=Europe/Berlin:20261219T180000
DTSTAMP:20260424T010214
CREATED:20251130T113257Z
LAST-MODIFIED:20251130T113257Z
UID:6812-1797696000-1797703200@schuetzenverein-elsenfeld.de
SUMMARY:Training Bogensport Erwachsene
DESCRIPTION:freies Training der Bogenabteilung für Erwachsene
URL:https://schuetzenverein-elsenfeld.de/termin/training-bogensport-erwachsene-422/
CATEGORIES:Bogensport
END:VEVENT
BEGIN:VEVENT
DTSTART;TZID=Europe/Berlin:20261221T190000
DTEND;TZID=Europe/Berlin:20261221T210000
DTSTAMP:20260424T010214
CREATED:20251130T105542Z
LAST-MODIFIED:20251130T105542Z
UID:6599-1797879600-1797886800@schuetzenverein-elsenfeld.de
SUMMARY:Training Bogensport Erwachsenen
DESCRIPTION:freies Training der Bogenabteilung für Erwachsene
URL:https://schuetzenverein-elsenfeld.de/termin/training-bogensport-erwachsenen-49/
LOCATION:Schützenhaus – Bogenhalle\, Schützenhausstraße 1\, Elsenfeld\, 63820\, Deutschland
CATEGORIES:Bogensport
END:VEVENT
BEGIN:VEVENT
DTSTART;TZID=Europe/Berlin:20261222T190000
DTEND;TZID=Europe/Berlin:20261222T220000
DTSTAMP:20260424T010214
CREATED:20251130T114228Z
LAST-MODIFIED:20251130T114228Z
UID:6926-1797966000-1797976800@schuetzenverein-elsenfeld.de
SUMMARY:Training BDS Schützengruppe GK/KK
DESCRIPTION:Training BDS Schützengruppe Elsenfeld (KK&GK)
URL:https://schuetzenverein-elsenfeld.de/termin/training-bds-schuetzengruppe-gk-kk-102/
LOCATION:Schützenhaus – Schießhalle\, Schützenhausstraße 1\, Elsenfeld\, 63820\, Deutschland
CATEGORIES:BDS Schützengruppe
END:VEVENT
BEGIN:VEVENT
DTSTART;TZID=Europe/Berlin:20261223T193000
DTEND;TZID=Europe/Berlin:20261223T210000
DTSTAMP:20260424T010214
CREATED:20251130T111521Z
LAST-MODIFIED:20251130T111521Z
UID:6708-1798054200-1798059600@schuetzenverein-elsenfeld.de
SUMMARY:Training Bogensport Erwachsene
DESCRIPTION:freies Training der Bogenabteilung für Erwachsene
URL:https://schuetzenverein-elsenfeld.de/termin/training-bogensport-erwachsene-325/
LOCATION:Schützenhaus – Bogenhalle\, Schützenhausstraße 1\, Elsenfeld\, 63820\, Deutschland
CATEGORIES:Bogensport
END:VEVENT
BEGIN:VEVENT
DTSTART;TZID=Europe/Berlin:20261224T200000
DTEND;TZID=Europe/Berlin:20261224T220000
DTSTAMP:20260424T010214
CREATED:20251130T120005Z
LAST-MODIFIED:20251130T120006Z
UID:7072-1798142400-1798149600@schuetzenverein-elsenfeld.de
SUMMARY:Training Sport/Luftpistole Erwachsene
DESCRIPTION:Training der Sport/Luftpistole (Erwachsene)
URL:https://schuetzenverein-elsenfeld.de/termin/training-sport-luftpistole-erwachsene-196/
LOCATION:Schützenhaus – Schießhalle\, Schützenhausstraße 1\, Elsenfeld\, 63820\, Deutschland
CATEGORIES:Luftpistole
END:VEVENT
BEGIN:VEVENT
DTSTART;TZID=Europe/Berlin:20261228T190000
DTEND;TZID=Europe/Berlin:20261228T210000
DTSTAMP:20260424T010214
CREATED:20251130T105542Z
LAST-MODIFIED:20251130T105542Z
UID:6600-1798484400-1798491600@schuetzenverein-elsenfeld.de
SUMMARY:Training Bogensport Erwachsenen
DESCRIPTION:freies Training der Bogenabteilung für Erwachsene
URL:https://schuetzenverein-elsenfeld.de/termin/training-bogensport-erwachsenen-50/
LOCATION:Schützenhaus – Bogenhalle\, Schützenhausstraße 1\, Elsenfeld\, 63820\, Deutschland
CATEGORIES:Bogensport
END:VEVENT
BEGIN:VEVENT
DTSTART;TZID=Europe/Berlin:20261229T190000
DTEND;TZID=Europe/Berlin:20261229T220000
DTSTAMP:20260424T010214
CREATED:20251130T114242Z
LAST-MODIFIED:20251130T114242Z
UID:6927-1798570800-1798581600@schuetzenverein-elsenfeld.de
SUMMARY:Training BDS Schützengruppe GK/KK
DESCRIPTION:Training BDS Schützengruppe Elsenfeld (KK&GK)
URL:https://schuetzenverein-elsenfeld.de/termin/training-bds-schuetzengruppe-gk-kk-103/
LOCATION:Schützenhaus – Schießhalle\, Schützenhausstraße 1\, Elsenfeld\, 63820\, Deutschland
CATEGORIES:BDS Schützengruppe
END:VEVENT
BEGIN:VEVENT
DTSTART;TZID=Europe/Berlin:20261230T193000
DTEND;TZID=Europe/Berlin:20261230T210000
DTSTAMP:20260424T010214
CREATED:20251130T111521Z
LAST-MODIFIED:20251130T111521Z
UID:6709-1798659000-1798664400@schuetzenverein-elsenfeld.de
SUMMARY:Training Bogensport Erwachsene
DESCRIPTION:freies Training der Bogenabteilung für Erwachsene
URL:https://schuetzenverein-elsenfeld.de/termin/training-bogensport-erwachsene-326/
LOCATION:Schützenhaus – Bogenhalle\, Schützenhausstraße 1\, Elsenfeld\, 63820\, Deutschland
CATEGORIES:Bogensport
END:VEVENT
BEGIN:VEVENT
DTSTART;TZID=Europe/Berlin:20261231T200000
DTEND;TZID=Europe/Berlin:20261231T220000
DTSTAMP:20260424T010214
CREATED:20251130T120006Z
LAST-MODIFIED:20251130T120006Z
UID:7073-1798747200-1798754400@schuetzenverein-elsenfeld.de
SUMMARY:Training Sport/Luftpistole Erwachsene
DESCRIPTION:Training der Sport/Luftpistole (Erwachsene)
URL:https://schuetzenverein-elsenfeld.de/termin/training-sport-luftpistole-erwachsene-197/
LOCATION:Schützenhaus – Schießhalle\, Schützenhausstraße 1\, Elsenfeld\, 63820\, Deutschland
CATEGORIES:Luftpistole
END:VEVENT
BEGIN:VEVENT
DTSTART;TZID=Europe/Berlin:20270102T160000
DTEND;TZID=Europe/Berlin:20270102T180000
DTSTAMP:20260424T010214
CREATED:20251130T113257Z
LAST-MODIFIED:20251130T113257Z
UID:6813-1798905600-1798912800@schuetzenverein-elsenfeld.de
SUMMARY:Training Bogensport Erwachsene
DESCRIPTION:freies Training der Bogenabteilung für Erwachsene
URL:https://schuetzenverein-elsenfeld.de/termin/training-bogensport-erwachsene-423/
CATEGORIES:Bogensport
END:VEVENT
BEGIN:VEVENT
DTSTART;TZID=Europe/Berlin:20270104T190000
DTEND;TZID=Europe/Berlin:20270104T210000
DTSTAMP:20260424T010214
CREATED:20251130T105740Z
LAST-MODIFIED:20251130T105740Z
UID:6601-1799089200-1799096400@schuetzenverein-elsenfeld.de
SUMMARY:Training Bogensport Erwachsenen
DESCRIPTION:freies Training der Bogenabteilung für Erwachsene
URL:https://schuetzenverein-elsenfeld.de/termin/training-bogensport-erwachsenen-51/
LOCATION:Schützenhaus – Bogenhalle\, Schützenhausstraße 1\, Elsenfeld\, 63820\, Deutschland
CATEGORIES:Bogensport
END:VEVENT
END:VCALENDAR