BEGIN:VCALENDAR
VERSION:2.0
PRODID:-//schuetzenverein-elsenfeld.de - ECPv6.15.20//NONSGML v1.0//EN
CALSCALE:GREGORIAN
METHOD:PUBLISH
X-ORIGINAL-URL:https://schuetzenverein-elsenfeld.de
X-WR-CALDESC:Veranstaltungen für schuetzenverein-elsenfeld.de
REFRESH-INTERVAL;VALUE=DURATION:PT1H
X-Robots-Tag:noindex
X-PUBLISHED-TTL:PT1H
BEGIN:VTIMEZONE
TZID:Europe/Berlin
BEGIN:DAYLIGHT
TZOFFSETFROM:+0100
TZOFFSETTO:+0200
TZNAME:CEST
DTSTART:20250330T010000
END:DAYLIGHT
BEGIN:STANDARD
TZOFFSETFROM:+0200
TZOFFSETTO:+0100
TZNAME:CET
DTSTART:20251026T010000
END:STANDARD
BEGIN:DAYLIGHT
TZOFFSETFROM:+0100
TZOFFSETTO:+0200
TZNAME:CEST
DTSTART:20260329T010000
END:DAYLIGHT
BEGIN:STANDARD
TZOFFSETFROM:+0200
TZOFFSETTO:+0100
TZNAME:CET
DTSTART:20261025T010000
END:STANDARD
BEGIN:DAYLIGHT
TZOFFSETFROM:+0100
TZOFFSETTO:+0200
TZNAME:CEST
DTSTART:20270328T010000
END:DAYLIGHT
BEGIN:STANDARD
TZOFFSETFROM:+0200
TZOFFSETTO:+0100
TZNAME:CET
DTSTART:20271031T010000
END:STANDARD
END:VTIMEZONE
BEGIN:VEVENT
DTSTART;TZID=Europe/Berlin:20260910T200000
DTEND;TZID=Europe/Berlin:20260910T220000
DTSTAMP:20260423T201156
CREATED:20251130T115707Z
LAST-MODIFIED:20251130T115707Z
UID:7031-1789070400-1789077600@schuetzenverein-elsenfeld.de
SUMMARY:Training Sport/Luftpistole Erwachsene
DESCRIPTION:Training der Sport/Luftpistole (Erwachsene)
URL:https://schuetzenverein-elsenfeld.de/termin/training-sport-luftpistole-erwachsene-181/
LOCATION:Schützenhaus – Schießhalle\, Schützenhausstraße 1\, Elsenfeld\, 63820\, Deutschland
CATEGORIES:Luftpistole
END:VEVENT
BEGIN:VEVENT
DTSTART;TZID=Europe/Berlin:20260912T100000
DTEND;TZID=Europe/Berlin:20260912T140000
DTSTAMP:20260423T201156
CREATED:20251030T161900Z
LAST-MODIFIED:20251030T162041Z
UID:6132-1789207200-1789221600@schuetzenverein-elsenfeld.de
SUMMARY:Arbeitseinsatz (Details folgen)
DESCRIPTION:Details zum Arbeitseinsatz werden über das Newsletter verteilt
URL:https://schuetzenverein-elsenfeld.de/termin/arbeitseinsatz-details-folgen-13/
LOCATION:Rund um das Schützenhaus\, Schützenhausstraße 1\, Else
CATEGORIES:Arbeitseinsatz,Termine 2026
ATTACH;FMTTYPE=image/jpeg:https://schuetzenverein-elsenfeld.de/wp-content/uploads/2025/01/Logo_DianaElsenfeld_16_9-e1736109150597.jpg
END:VEVENT
BEGIN:VEVENT
DTSTART;TZID=Europe/Berlin:20260912T150000
DTEND;TZID=Europe/Berlin:20260912T180000
DTSTAMP:20260423T201156
CREATED:20251130T113026Z
LAST-MODIFIED:20251130T113026Z
UID:6799-1789225200-1789236000@schuetzenverein-elsenfeld.de
SUMMARY:Training Bogensport Erwachsene
DESCRIPTION:freies Training der Bogenabteilung für Erwachsene
URL:https://schuetzenverein-elsenfeld.de/termin/training-bogensport-erwachsene-409/
CATEGORIES:Bogensport
END:VEVENT
BEGIN:VEVENT
DTSTART;TZID=Europe/Berlin:20260914T190000
DTEND;TZID=Europe/Berlin:20260914T210000
DTSTAMP:20260423T201156
CREATED:20251130T104940Z
LAST-MODIFIED:20251130T104940Z
UID:6585-1789412400-1789419600@schuetzenverein-elsenfeld.de
SUMMARY:Training Bogensport Erwachsenen
DESCRIPTION:freies Training der Bogenabteilung für Erwachsene
URL:https://schuetzenverein-elsenfeld.de/termin/training-bogensport-erwachsenen-35/
CATEGORIES:Bogensport
END:VEVENT
BEGIN:VEVENT
DTSTART;TZID=Europe/Berlin:20260915T190000
DTEND;TZID=Europe/Berlin:20260915T220000
DTSTAMP:20260423T201156
CREATED:20251130T114157Z
LAST-MODIFIED:20251130T114158Z
UID:6907-1789498800-1789509600@schuetzenverein-elsenfeld.de
SUMMARY:Training BDS Schützengruppe GK/KK
DESCRIPTION:Training BDS Schützengruppe Elsenfeld (KK&GK)
URL:https://schuetzenverein-elsenfeld.de/termin/training-bds-schuetzengruppe-gk-kk-88/
LOCATION:Schützenhaus – Schießhalle\, Schützenhausstraße 1\, Elsenfeld\, 63820\, Deutschland
CATEGORIES:BDS Schützengruppe
END:VEVENT
BEGIN:VEVENT
DTSTART;TZID=Europe/Berlin:20260916T180000
DTEND;TZID=Europe/Berlin:20260916T193000
DTSTAMP:20260423T201156
CREATED:20251130T100759Z
LAST-MODIFIED:20251130T100759Z
UID:6305-1789581600-1789587000@schuetzenverein-elsenfeld.de
SUMMARY:Jugendtraining Bogensport
DESCRIPTION:Training der Bogenabteilung für Jugendliche bis 18 Jahre unter Anleitung eines erwachsenen Trainers (VÜL)
URL:https://schuetzenverein-elsenfeld.de/termin/jugendtraining-bogensport-107/
CATEGORIES:Bogensport
END:VEVENT
BEGIN:VEVENT
DTSTART;TZID=Europe/Berlin:20260916T193000
DTEND;TZID=Europe/Berlin:20260916T210000
DTSTAMP:20260423T201156
CREATED:20251130T110910Z
LAST-MODIFIED:20251130T110910Z
UID:6694-1789587000-1789592400@schuetzenverein-elsenfeld.de
SUMMARY:Training Bogensport Erwachsene
DESCRIPTION:freies Training der Bogenabteilung für Erwachsene
URL:https://schuetzenverein-elsenfeld.de/termin/training-bogensport-erwachsene-311/
CATEGORIES:Bogensport
END:VEVENT
BEGIN:VEVENT
DTSTART;TZID=Europe/Berlin:20260917T200000
DTEND;TZID=Europe/Berlin:20260917T220000
DTSTAMP:20260423T201156
CREATED:20251130T115707Z
LAST-MODIFIED:20251130T115707Z
UID:7032-1789675200-1789682400@schuetzenverein-elsenfeld.de
SUMMARY:Training Sport/Luftpistole Erwachsene
DESCRIPTION:Training der Sport/Luftpistole (Erwachsene)
URL:https://schuetzenverein-elsenfeld.de/termin/training-sport-luftpistole-erwachsene-182/
LOCATION:Schützenhaus – Schießhalle\, Schützenhausstraße 1\, Elsenfeld\, 63820\, Deutschland
CATEGORIES:Luftpistole
END:VEVENT
BEGIN:VEVENT
DTSTART;TZID=Europe/Berlin:20260919T150000
DTEND;TZID=Europe/Berlin:20260919T180000
DTSTAMP:20260423T201156
CREATED:20251130T113040Z
LAST-MODIFIED:20251130T113040Z
UID:6800-1789830000-1789840800@schuetzenverein-elsenfeld.de
SUMMARY:Training Bogensport Erwachsene
DESCRIPTION:freies Training der Bogenabteilung für Erwachsene
URL:https://schuetzenverein-elsenfeld.de/termin/training-bogensport-erwachsene-410/
CATEGORIES:Bogensport
END:VEVENT
BEGIN:VEVENT
DTSTART;TZID=Europe/Berlin:20260921T190000
DTEND;TZID=Europe/Berlin:20260921T210000
DTSTAMP:20260423T201156
CREATED:20251130T105140Z
LAST-MODIFIED:20251130T105140Z
UID:6586-1790017200-1790024400@schuetzenverein-elsenfeld.de
SUMMARY:Training Bogensport Erwachsenen
DESCRIPTION:freies Training der Bogenabteilung für Erwachsene
URL:https://schuetzenverein-elsenfeld.de/termin/training-bogensport-erwachsenen-36/
CATEGORIES:Bogensport
END:VEVENT
BEGIN:VEVENT
DTSTART;TZID=Europe/Berlin:20260922T190000
DTEND;TZID=Europe/Berlin:20260922T220000
DTSTAMP:20260423T201156
CREATED:20251130T114157Z
LAST-MODIFIED:20251130T114158Z
UID:6908-1790103600-1790114400@schuetzenverein-elsenfeld.de
SUMMARY:Training BDS Schützengruppe GK/KK
DESCRIPTION:Training BDS Schützengruppe Elsenfeld (KK&GK)
URL:https://schuetzenverein-elsenfeld.de/termin/training-bds-schuetzengruppe-gk-kk-89/
LOCATION:Schützenhaus – Schießhalle\, Schützenhausstraße 1\, Elsenfeld\, 63820\, Deutschland
CATEGORIES:BDS Schützengruppe
END:VEVENT
BEGIN:VEVENT
DTSTART;TZID=Europe/Berlin:20260923T180000
DTEND;TZID=Europe/Berlin:20260923T193000
DTSTAMP:20260423T201156
CREATED:20251130T100800Z
LAST-MODIFIED:20251130T100800Z
UID:6306-1790186400-1790191800@schuetzenverein-elsenfeld.de
SUMMARY:Jugendtraining Bogensport
DESCRIPTION:Training der Bogenabteilung für Jugendliche bis 18 Jahre unter Anleitung eines erwachsenen Trainers (VÜL)
URL:https://schuetzenverein-elsenfeld.de/termin/jugendtraining-bogensport-108/
CATEGORIES:Bogensport
END:VEVENT
BEGIN:VEVENT
DTSTART;TZID=Europe/Berlin:20260923T193000
DTEND;TZID=Europe/Berlin:20260923T210000
DTSTAMP:20260423T201156
CREATED:20251130T110910Z
LAST-MODIFIED:20251130T110910Z
UID:6695-1790191800-1790197200@schuetzenverein-elsenfeld.de
SUMMARY:Training Bogensport Erwachsene
DESCRIPTION:freies Training der Bogenabteilung für Erwachsene
URL:https://schuetzenverein-elsenfeld.de/termin/training-bogensport-erwachsene-312/
CATEGORIES:Bogensport
END:VEVENT
BEGIN:VEVENT
DTSTART;TZID=Europe/Berlin:20260924T200000
DTEND;TZID=Europe/Berlin:20260924T220000
DTSTAMP:20260423T201156
CREATED:20251130T115709Z
LAST-MODIFIED:20251130T115709Z
UID:7033-1790280000-1790287200@schuetzenverein-elsenfeld.de
SUMMARY:Training Sport/Luftpistole Erwachsene
DESCRIPTION:Training der Sport/Luftpistole (Erwachsene)
URL:https://schuetzenverein-elsenfeld.de/termin/training-sport-luftpistole-erwachsene-183/
LOCATION:Schützenhaus – Schießhalle\, Schützenhausstraße 1\, Elsenfeld\, 63820\, Deutschland
CATEGORIES:Luftpistole
END:VEVENT
BEGIN:VEVENT
DTSTART;TZID=Europe/Berlin:20260926T130000
DTEND;TZID=Europe/Berlin:20260926T170000
DTSTAMP:20260423T201156
CREATED:20251030T180003Z
LAST-MODIFIED:20251030T180103Z
UID:6185-1790427600-1790442000@schuetzenverein-elsenfeld.de
SUMMARY:Vereinsmeisterschaft Bogen (Halle)
DESCRIPTION:Vereinsmeisterschaft des SV Diana Elsenfeld in der Halle auf 18m
URL:https://schuetzenverein-elsenfeld.de/termin/vereinsmeisterschaft-bogen-halle-2/
LOCATION:Schützenhaus – Bogenhalle\, Schützenhausstraße 1\, Elsenfeld\, 63820\, Deutschland
CATEGORIES:Bogensport,Termine 2026,Vereinsmeisterschaft,Wettkampf Bogenabteilung
ATTACH;FMTTYPE=image/jpeg:https://schuetzenverein-elsenfeld.de/wp-content/uploads/2024/02/Schiesslinie_04-scaled.jpg
END:VEVENT
BEGIN:VEVENT
DTSTART;TZID=Europe/Berlin:20260926T150000
DTEND;TZID=Europe/Berlin:20260926T180000
DTSTAMP:20260423T201156
CREATED:20251130T113040Z
LAST-MODIFIED:20251130T113040Z
UID:6801-1790434800-1790445600@schuetzenverein-elsenfeld.de
SUMMARY:Training Bogensport Erwachsene
DESCRIPTION:freies Training der Bogenabteilung für Erwachsene
URL:https://schuetzenverein-elsenfeld.de/termin/training-bogensport-erwachsene-411/
CATEGORIES:Bogensport
END:VEVENT
BEGIN:VEVENT
DTSTART;TZID=Europe/Berlin:20260928T190000
DTEND;TZID=Europe/Berlin:20260928T210000
DTSTAMP:20260423T201156
CREATED:20251130T105140Z
LAST-MODIFIED:20251130T105140Z
UID:6587-1790622000-1790629200@schuetzenverein-elsenfeld.de
SUMMARY:Training Bogensport Erwachsenen
DESCRIPTION:freies Training der Bogenabteilung für Erwachsene
URL:https://schuetzenverein-elsenfeld.de/termin/training-bogensport-erwachsenen-37/
CATEGORIES:Bogensport
END:VEVENT
BEGIN:VEVENT
DTSTART;TZID=Europe/Berlin:20260929T190000
DTEND;TZID=Europe/Berlin:20260929T220000
DTSTAMP:20260423T201156
CREATED:20251130T114157Z
LAST-MODIFIED:20251130T114158Z
UID:6909-1790708400-1790719200@schuetzenverein-elsenfeld.de
SUMMARY:Training BDS Schützengruppe GK/KK
DESCRIPTION:Training BDS Schützengruppe Elsenfeld (KK&GK)
URL:https://schuetzenverein-elsenfeld.de/termin/training-bds-schuetzengruppe-gk-kk-90/
LOCATION:Schützenhaus – Schießhalle\, Schützenhausstraße 1\, Elsenfeld\, 63820\, Deutschland
CATEGORIES:BDS Schützengruppe
END:VEVENT
BEGIN:VEVENT
DTSTART;TZID=Europe/Berlin:20260930T180000
DTEND;TZID=Europe/Berlin:20260930T193000
DTSTAMP:20260423T201156
CREATED:20251130T100800Z
LAST-MODIFIED:20251130T100800Z
UID:6307-1790791200-1790796600@schuetzenverein-elsenfeld.de
SUMMARY:Jugendtraining Bogensport
DESCRIPTION:Training der Bogenabteilung für Jugendliche bis 18 Jahre unter Anleitung eines erwachsenen Trainers (VÜL)
URL:https://schuetzenverein-elsenfeld.de/termin/jugendtraining-bogensport-109/
CATEGORIES:Bogensport
END:VEVENT
BEGIN:VEVENT
DTSTART;TZID=Europe/Berlin:20260930T193000
DTEND;TZID=Europe/Berlin:20260930T210000
DTSTAMP:20260423T201156
CREATED:20251130T110910Z
LAST-MODIFIED:20251130T110910Z
UID:6696-1790796600-1790802000@schuetzenverein-elsenfeld.de
SUMMARY:Training Bogensport Erwachsene
DESCRIPTION:freies Training der Bogenabteilung für Erwachsene
URL:https://schuetzenverein-elsenfeld.de/termin/training-bogensport-erwachsene-313/
CATEGORIES:Bogensport
END:VEVENT
BEGIN:VEVENT
DTSTART;TZID=Europe/Berlin:20261001T200000
DTEND;TZID=Europe/Berlin:20261001T220000
DTSTAMP:20260423T201156
CREATED:20251130T115709Z
LAST-MODIFIED:20251130T115709Z
UID:7034-1790884800-1790892000@schuetzenverein-elsenfeld.de
SUMMARY:Training Sport/Luftpistole Erwachsene
DESCRIPTION:Training der Sport/Luftpistole (Erwachsene)
URL:https://schuetzenverein-elsenfeld.de/termin/training-sport-luftpistole-erwachsene-184/
LOCATION:Schützenhaus – Schießhalle\, Schützenhausstraße 1\, Elsenfeld\, 63820\, Deutschland
CATEGORIES:Luftpistole
END:VEVENT
BEGIN:VEVENT
DTSTART;TZID=Europe/Berlin:20261005T190000
DTEND;TZID=Europe/Berlin:20261005T210000
DTSTAMP:20260423T201156
CREATED:20251130T105140Z
LAST-MODIFIED:20251130T105140Z
UID:6588-1791226800-1791234000@schuetzenverein-elsenfeld.de
SUMMARY:Training Bogensport Erwachsenen
DESCRIPTION:freies Training der Bogenabteilung für Erwachsene
URL:https://schuetzenverein-elsenfeld.de/termin/training-bogensport-erwachsenen-38/
CATEGORIES:Bogensport
END:VEVENT
BEGIN:VEVENT
DTSTART;TZID=Europe/Berlin:20261006T190000
DTEND;TZID=Europe/Berlin:20261006T220000
DTSTAMP:20260423T201156
CREATED:20251130T114158Z
LAST-MODIFIED:20251130T114158Z
UID:6910-1791313200-1791324000@schuetzenverein-elsenfeld.de
SUMMARY:Training BDS Schützengruppe GK/KK
DESCRIPTION:Training BDS Schützengruppe Elsenfeld (KK&GK)
URL:https://schuetzenverein-elsenfeld.de/termin/training-bds-schuetzengruppe-gk-kk-91/
LOCATION:Schützenhaus – Schießhalle\, Schützenhausstraße 1\, Elsenfeld\, 63820\, Deutschland
CATEGORIES:BDS Schützengruppe
END:VEVENT
BEGIN:VEVENT
DTSTART;TZID=Europe/Berlin:20261007T180000
DTEND;TZID=Europe/Berlin:20261007T193000
DTSTAMP:20260423T201156
CREATED:20251130T100800Z
LAST-MODIFIED:20251130T100800Z
UID:6308-1791396000-1791401400@schuetzenverein-elsenfeld.de
SUMMARY:Jugendtraining Bogensport
DESCRIPTION:Training der Bogenabteilung für Jugendliche bis 18 Jahre unter Anleitung eines erwachsenen Trainers (VÜL)
URL:https://schuetzenverein-elsenfeld.de/termin/jugendtraining-bogensport-110/
CATEGORIES:Bogensport
END:VEVENT
BEGIN:VEVENT
DTSTART;TZID=Europe/Berlin:20261007T193000
DTEND;TZID=Europe/Berlin:20261007T210000
DTSTAMP:20260423T201156
CREATED:20251130T110911Z
LAST-MODIFIED:20251130T110911Z
UID:6697-1791401400-1791406800@schuetzenverein-elsenfeld.de
SUMMARY:Training Bogensport Erwachsene
DESCRIPTION:freies Training der Bogenabteilung für Erwachsene
URL:https://schuetzenverein-elsenfeld.de/termin/training-bogensport-erwachsene-314/
CATEGORIES:Bogensport
END:VEVENT
BEGIN:VEVENT
DTSTART;TZID=Europe/Berlin:20261008T200000
DTEND;TZID=Europe/Berlin:20261008T220000
DTSTAMP:20260423T201156
CREATED:20251130T115709Z
LAST-MODIFIED:20251130T115709Z
UID:7035-1791489600-1791496800@schuetzenverein-elsenfeld.de
SUMMARY:Training Sport/Luftpistole Erwachsene
DESCRIPTION:Training der Sport/Luftpistole (Erwachsene)
URL:https://schuetzenverein-elsenfeld.de/termin/training-sport-luftpistole-erwachsene-185/
LOCATION:Schützenhaus – Schießhalle\, Schützenhausstraße 1\, Elsenfeld\, 63820\, Deutschland
CATEGORIES:Luftpistole
END:VEVENT
BEGIN:VEVENT
DTSTART;TZID=Europe/Berlin:20261010T090000
DTEND;TZID=Europe/Berlin:20261010T170000
DTSTAMP:20260423T201156
CREATED:20251130T154221Z
LAST-MODIFIED:20251130T154225Z
UID:6137-1791622800-1791651600@schuetzenverein-elsenfeld.de
SUMMARY:Ortsmeisterschaft Bogenschießen 2026
DESCRIPTION:An alle Interessierte aus Vereinen oder sonstige Teams\, die gerne mal Bogenschießen wollen!\nTeilnahmebedingungen: \n\nEine Mannschaft besteht aus 3-4 Personen\nGeschossen werden 3 Passen mit je 6 Pfeilen\nDie Ergebnisse der drei besten Schützen je Team werden gewertet\nStartgeld pro Team 25EUR\nTeilnehmer sind keine aktiven Bogenschützen\ngeschossen wird ausschließlich mit Vereinsbögen\n\n  \nWie im letzten Jahr schießen am Sonntage die vier besten Teams der  „Vorrunde“ die Podiumsplätze im direkten Vergleich aus. \nInteressierte melden sich bitte bei info@schuetzenverein-elsenfeld.de \nAnmeldeschluss ist der 14. September 2026. \nDie gemeldeten Teams können im September nach Rücksprache/Terminvereinbarung im Schützenhaus für die Ortsmeisterschaft üben. \nWir freuen uns über viele interessierte Teams und eine spannende Ortsmeisterschaft!\n  \nTRAININGSMÖGLICHKEITEN!!! \nDamit sich jedes Teams auf die Ortsmeisterschaft vorbereiten kann\, bieten wird folgende Tage im September zum Training an:jeweils Freitags\, 19:00 bis 21:30 Uhrjeweils Sonntags\, 10:00 bis 11:30 Uhr \nBitte teilt uns vorab mit\, an welchen Terminen ihr zum Training kommen wollt\, damit wir sicherstellen können\, dass die Schießlinie nicht überfüllt ist! \n 
URL:https://schuetzenverein-elsenfeld.de/termin/ortsmeisterschaft-bogenschiessen-2026/
LOCATION:Schützenhaus – Bogenhalle\, Schützenhausstraße 1\, Elsenfeld\, 63820\, Deutschland
CATEGORIES:Bogensport,Ortsmeisterschaft,Termine 2026
ATTACH;FMTTYPE=image/webp:https://schuetzenverein-elsenfeld.de/wp-content/uploads/2025/09/Vereinsmeisterschaft2025_59-scaled.webp
END:VEVENT
BEGIN:VEVENT
DTSTART;TZID=Europe/Berlin:20261010T150000
DTEND;TZID=Europe/Berlin:20261010T180000
DTSTAMP:20260423T201156
CREATED:20251130T113040Z
LAST-MODIFIED:20251130T113040Z
UID:6802-1791644400-1791655200@schuetzenverein-elsenfeld.de
SUMMARY:Training Bogensport Erwachsene
DESCRIPTION:freies Training der Bogenabteilung für Erwachsene
URL:https://schuetzenverein-elsenfeld.de/termin/training-bogensport-erwachsene-412/
CATEGORIES:Bogensport
END:VEVENT
BEGIN:VEVENT
DTSTART;TZID=Europe/Berlin:20261011T090000
DTEND;TZID=Europe/Berlin:20261011T170000
DTSTAMP:20260423T201156
CREATED:20251130T154301Z
LAST-MODIFIED:20251130T154304Z
UID:6145-1791709200-1791738000@schuetzenverein-elsenfeld.de
SUMMARY:Ortsmeisterschaft Bogenschießen 2026
DESCRIPTION:An alle Interessierte aus Vereinen oder sonstige Teams\, die gerne mal Bogenschießen wollen!\nTeilnahmebedingungen: \n\nEine Mannschaft besteht aus 3-4 Personen\nGeschossen werden 3 Passen mit je 6 Pfeilen\nDie Ergebnisse der drei besten Schützen je Team werden gewertet\nStartgeld pro Team 25EUR\nTeilnehmer sind keine aktiven Bogenschützen\ngeschossen wird ausschließlich mit Vereinsbögen\n\n  \nWie im letzten Jahr schießen am Sonntage die vier besten Teams der  „Vorrunde“ die Podiumsplätze im direkten Vergleich aus. \nInteressierte melden sich bitte bei info@schuetzenverein-elsenfeld.de \nAnmeldeschluss ist der 14. September 2026. \nDie gemeldeten Teams können im September nach Rücksprache/Terminvereinbarung im Schützenhaus für die Ortsmeisterschaft üben. \nWir freuen uns über viele interessierte Teams und eine spannende Ortsmeisterschaft!\n  \nTRAININGSMÖGLICHKEITEN!!! \nDamit sich jedes Teams auf die Ortsmeisterschaft vorbereiten kann\, bieten wird folgende Tage im September zum Training an:\njeweils Freitags\, 19:00 bis 21:30 Uhr\njeweils Sonntags\, 10:00 bis 11:30 Uhr \nBitte teilt uns vorab mit\, an welchen Terminen ihr zum Training kommen wollt\, damit wir sicherstellen können\, dass die Schießlinie nicht überfüllt ist!
URL:https://schuetzenverein-elsenfeld.de/termin/ortsmeisterschaft-bogenschiessen-2026-2/
LOCATION:Schützenhaus – Bogenhalle\, Schützenhausstraße 1\, Elsenfeld\, 63820\, Deutschland
CATEGORIES:Bogensport,Ortsmeisterschaft,Termine 2026
ATTACH;FMTTYPE=image/webp:https://schuetzenverein-elsenfeld.de/wp-content/uploads/2025/10/Ortsmeisterschaft_2025_316-scaled.webp
END:VEVENT
BEGIN:VEVENT
DTSTART;TZID=Europe/Berlin:20261012T190000
DTEND;TZID=Europe/Berlin:20261012T210000
DTSTAMP:20260423T201156
CREATED:20251130T105140Z
LAST-MODIFIED:20251130T105140Z
UID:6589-1791831600-1791838800@schuetzenverein-elsenfeld.de
SUMMARY:Training Bogensport Erwachsenen
DESCRIPTION:freies Training der Bogenabteilung für Erwachsene
URL:https://schuetzenverein-elsenfeld.de/termin/training-bogensport-erwachsenen-39/
CATEGORIES:Bogensport
END:VEVENT
END:VCALENDAR