BEGIN:VCALENDAR
VERSION:2.0
PRODID:-//schuetzenverein-elsenfeld.de - ECPv6.15.20//NONSGML v1.0//EN
CALSCALE:GREGORIAN
METHOD:PUBLISH
X-WR-CALNAME:schuetzenverein-elsenfeld.de
X-ORIGINAL-URL:https://schuetzenverein-elsenfeld.de
X-WR-CALDESC:Veranstaltungen für schuetzenverein-elsenfeld.de
REFRESH-INTERVAL;VALUE=DURATION:PT1H
X-Robots-Tag:noindex
X-PUBLISHED-TTL:PT1H
BEGIN:VTIMEZONE
TZID:Europe/Berlin
BEGIN:DAYLIGHT
TZOFFSETFROM:+0100
TZOFFSETTO:+0200
TZNAME:CEST
DTSTART:20250330T010000
END:DAYLIGHT
BEGIN:STANDARD
TZOFFSETFROM:+0200
TZOFFSETTO:+0100
TZNAME:CET
DTSTART:20251026T010000
END:STANDARD
BEGIN:DAYLIGHT
TZOFFSETFROM:+0100
TZOFFSETTO:+0200
TZNAME:CEST
DTSTART:20260329T010000
END:DAYLIGHT
BEGIN:STANDARD
TZOFFSETFROM:+0200
TZOFFSETTO:+0100
TZNAME:CET
DTSTART:20261025T010000
END:STANDARD
BEGIN:DAYLIGHT
TZOFFSETFROM:+0100
TZOFFSETTO:+0200
TZNAME:CEST
DTSTART:20270328T010000
END:DAYLIGHT
BEGIN:STANDARD
TZOFFSETFROM:+0200
TZOFFSETTO:+0100
TZNAME:CET
DTSTART:20271031T010000
END:STANDARD
END:VTIMEZONE
BEGIN:VEVENT
DTSTART;TZID=Europe/Berlin:20260808T190000
DTEND;TZID=Europe/Berlin:20260808T210000
DTSTAMP:20260423T183902
CREATED:20251130T153018Z
LAST-MODIFIED:20251130T153018Z
UID:7155-1786215600-1786222800@schuetzenverein-elsenfeld.de
SUMMARY:Training Bogensport Erwachsenen
DESCRIPTION:freies Training der Bogenabteilung für Erwachsene
URL:https://schuetzenverein-elsenfeld.de/termin/training-bogensport-erwachsenen-100-2/
LOCATION:Schützenhaus – Bogenhalle\, Schützenhausstraße 1\, Elsenfeld\, 63820\, Deutschland
CATEGORIES:Bogensport
END:VEVENT
BEGIN:VEVENT
DTSTART;TZID=Europe/Berlin:20260810T190000
DTEND;TZID=Europe/Berlin:20260810T210000
DTSTAMP:20260423T183902
CREATED:20251130T104922Z
LAST-MODIFIED:20251130T104922Z
UID:6580-1786388400-1786395600@schuetzenverein-elsenfeld.de
SUMMARY:Training Bogensport Erwachsenen
DESCRIPTION:freies Training der Bogenabteilung für Erwachsene
URL:https://schuetzenverein-elsenfeld.de/termin/training-bogensport-erwachsenen-30/
CATEGORIES:Bogensport
END:VEVENT
BEGIN:VEVENT
DTSTART;TZID=Europe/Berlin:20260811T190000
DTEND;TZID=Europe/Berlin:20260811T220000
DTSTAMP:20260423T183902
CREATED:20251130T114142Z
LAST-MODIFIED:20251130T114143Z
UID:6897-1786474800-1786485600@schuetzenverein-elsenfeld.de
SUMMARY:Training BDS Schützengruppe GK/KK
DESCRIPTION:Training BDS Schützengruppe Elsenfeld (KK&GK)
URL:https://schuetzenverein-elsenfeld.de/termin/training-bds-schuetzengruppe-gk-kk-83/
LOCATION:Schützenhaus – Schießhalle\, Schützenhausstraße 1\, Elsenfeld\, 63820\, Deutschland
CATEGORIES:BDS Schützengruppe
END:VEVENT
BEGIN:VEVENT
DTSTART;TZID=Europe/Berlin:20260812T193000
DTEND;TZID=Europe/Berlin:20260812T210000
DTSTAMP:20260423T183902
CREATED:20251130T110709Z
LAST-MODIFIED:20251130T110709Z
UID:6689-1786563000-1786568400@schuetzenverein-elsenfeld.de
SUMMARY:Training Bogensport Erwachsene
DESCRIPTION:freies Training der Bogenabteilung für Erwachsene
URL:https://schuetzenverein-elsenfeld.de/termin/training-bogensport-erwachsene-306/
CATEGORIES:Bogensport
END:VEVENT
BEGIN:VEVENT
DTSTART;TZID=Europe/Berlin:20260813T200000
DTEND;TZID=Europe/Berlin:20260813T220000
DTSTAMP:20260423T183902
CREATED:20251130T115705Z
LAST-MODIFIED:20251130T115705Z
UID:7027-1786651200-1786658400@schuetzenverein-elsenfeld.de
SUMMARY:Training Sport/Luftpistole Erwachsene
DESCRIPTION:Training der Sport/Luftpistole (Erwachsene)
URL:https://schuetzenverein-elsenfeld.de/termin/training-sport-luftpistole-erwachsene-177/
LOCATION:Schützenhaus – Schießhalle\, Schützenhausstraße 1\, Elsenfeld\, 63820\, Deutschland
CATEGORIES:Luftpistole
END:VEVENT
BEGIN:VEVENT
DTSTART;TZID=Europe/Berlin:20260815T190000
DTEND;TZID=Europe/Berlin:20260815T210000
DTSTAMP:20260423T183902
CREATED:20251130T153027Z
LAST-MODIFIED:20251130T153027Z
UID:7157-1786820400-1786827600@schuetzenverein-elsenfeld.de
SUMMARY:Training Bogensport Erwachsenen
DESCRIPTION:freies Training der Bogenabteilung für Erwachsene
URL:https://schuetzenverein-elsenfeld.de/termin/training-bogensport-erwachsenen-100-2-2/
LOCATION:Schützenhaus – Bogenhalle\, Schützenhausstraße 1\, Elsenfeld\, 63820\, Deutschland
CATEGORIES:Bogensport
END:VEVENT
BEGIN:VEVENT
DTSTART;TZID=Europe/Berlin:20260817T190000
DTEND;TZID=Europe/Berlin:20260817T210000
DTSTAMP:20260423T183902
CREATED:20251130T104939Z
LAST-MODIFIED:20251130T104939Z
UID:6581-1786993200-1787000400@schuetzenverein-elsenfeld.de
SUMMARY:Training Bogensport Erwachsenen
DESCRIPTION:freies Training der Bogenabteilung für Erwachsene
URL:https://schuetzenverein-elsenfeld.de/termin/training-bogensport-erwachsenen-31/
CATEGORIES:Bogensport
END:VEVENT
BEGIN:VEVENT
DTSTART;TZID=Europe/Berlin:20260818T190000
DTEND;TZID=Europe/Berlin:20260818T220000
DTSTAMP:20260423T183902
CREATED:20251130T114142Z
LAST-MODIFIED:20251130T114143Z
UID:6898-1787079600-1787090400@schuetzenverein-elsenfeld.de
SUMMARY:Training BDS Schützengruppe GK/KK
DESCRIPTION:Training BDS Schützengruppe Elsenfeld (KK&GK)
URL:https://schuetzenverein-elsenfeld.de/termin/training-bds-schuetzengruppe-gk-kk-84/
LOCATION:Schützenhaus – Schießhalle\, Schützenhausstraße 1\, Elsenfeld\, 63820\, Deutschland
CATEGORIES:BDS Schützengruppe
END:VEVENT
BEGIN:VEVENT
DTSTART;TZID=Europe/Berlin:20260819T193000
DTEND;TZID=Europe/Berlin:20260819T210000
DTSTAMP:20260423T183902
CREATED:20251130T110709Z
LAST-MODIFIED:20251130T110709Z
UID:6690-1787167800-1787173200@schuetzenverein-elsenfeld.de
SUMMARY:Training Bogensport Erwachsene
DESCRIPTION:freies Training der Bogenabteilung für Erwachsene
URL:https://schuetzenverein-elsenfeld.de/termin/training-bogensport-erwachsene-307/
CATEGORIES:Bogensport
END:VEVENT
BEGIN:VEVENT
DTSTART;TZID=Europe/Berlin:20260820T200000
DTEND;TZID=Europe/Berlin:20260820T220000
DTSTAMP:20260423T183902
CREATED:20251130T115707Z
LAST-MODIFIED:20251130T115707Z
UID:7028-1787256000-1787263200@schuetzenverein-elsenfeld.de
SUMMARY:Training Sport/Luftpistole Erwachsene
DESCRIPTION:Training der Sport/Luftpistole (Erwachsene)
URL:https://schuetzenverein-elsenfeld.de/termin/training-sport-luftpistole-erwachsene-178/
LOCATION:Schützenhaus – Schießhalle\, Schützenhausstraße 1\, Elsenfeld\, 63820\, Deutschland
CATEGORIES:Luftpistole
END:VEVENT
BEGIN:VEVENT
DTSTART;TZID=Europe/Berlin:20260822T150000
DTEND;TZID=Europe/Berlin:20260822T180000
DTSTAMP:20260423T183902
CREATED:20251130T113025Z
LAST-MODIFIED:20251130T113025Z
UID:6796-1787410800-1787421600@schuetzenverein-elsenfeld.de
SUMMARY:Training Bogensport Erwachsene
DESCRIPTION:freies Training der Bogenabteilung für Erwachsene
URL:https://schuetzenverein-elsenfeld.de/termin/training-bogensport-erwachsene-406/
CATEGORIES:Bogensport
END:VEVENT
BEGIN:VEVENT
DTSTART;TZID=Europe/Berlin:20260824T190000
DTEND;TZID=Europe/Berlin:20260824T210000
DTSTAMP:20260423T183902
CREATED:20251130T104939Z
LAST-MODIFIED:20251130T104939Z
UID:6582-1787598000-1787605200@schuetzenverein-elsenfeld.de
SUMMARY:Training Bogensport Erwachsenen
DESCRIPTION:freies Training der Bogenabteilung für Erwachsene
URL:https://schuetzenverein-elsenfeld.de/termin/training-bogensport-erwachsenen-32/
CATEGORIES:Bogensport
END:VEVENT
BEGIN:VEVENT
DTSTART;TZID=Europe/Berlin:20260825T190000
DTEND;TZID=Europe/Berlin:20260825T220000
DTSTAMP:20260423T183902
CREATED:20251130T114142Z
LAST-MODIFIED:20251130T114143Z
UID:6899-1787684400-1787695200@schuetzenverein-elsenfeld.de
SUMMARY:Training BDS Schützengruppe GK/KK
DESCRIPTION:Training BDS Schützengruppe Elsenfeld (KK&GK)
URL:https://schuetzenverein-elsenfeld.de/termin/training-bds-schuetzengruppe-gk-kk-85/
LOCATION:Schützenhaus – Schießhalle\, Schützenhausstraße 1\, Elsenfeld\, 63820\, Deutschland
CATEGORIES:BDS Schützengruppe
END:VEVENT
BEGIN:VEVENT
DTSTART;TZID=Europe/Berlin:20260826T193000
DTEND;TZID=Europe/Berlin:20260826T210000
DTSTAMP:20260423T183902
CREATED:20251130T110709Z
LAST-MODIFIED:20251130T110709Z
UID:6691-1787772600-1787778000@schuetzenverein-elsenfeld.de
SUMMARY:Training Bogensport Erwachsene
DESCRIPTION:freies Training der Bogenabteilung für Erwachsene
URL:https://schuetzenverein-elsenfeld.de/termin/training-bogensport-erwachsene-308/
CATEGORIES:Bogensport
END:VEVENT
BEGIN:VEVENT
DTSTART;TZID=Europe/Berlin:20260827T200000
DTEND;TZID=Europe/Berlin:20260827T220000
DTSTAMP:20260423T183902
CREATED:20251130T115707Z
LAST-MODIFIED:20251130T115707Z
UID:7029-1787860800-1787868000@schuetzenverein-elsenfeld.de
SUMMARY:Training Sport/Luftpistole Erwachsene
DESCRIPTION:Training der Sport/Luftpistole (Erwachsene)
URL:https://schuetzenverein-elsenfeld.de/termin/training-sport-luftpistole-erwachsene-179/
LOCATION:Schützenhaus – Schießhalle\, Schützenhausstraße 1\, Elsenfeld\, 63820\, Deutschland
CATEGORIES:Luftpistole
END:VEVENT
BEGIN:VEVENT
DTSTART;TZID=Europe/Berlin:20260829T150000
DTEND;TZID=Europe/Berlin:20260829T180000
DTSTAMP:20260423T183902
CREATED:20251130T113025Z
LAST-MODIFIED:20251130T113025Z
UID:6797-1788015600-1788026400@schuetzenverein-elsenfeld.de
SUMMARY:Training Bogensport Erwachsene
DESCRIPTION:freies Training der Bogenabteilung für Erwachsene
URL:https://schuetzenverein-elsenfeld.de/termin/training-bogensport-erwachsene-407/
CATEGORIES:Bogensport
END:VEVENT
BEGIN:VEVENT
DTSTART;TZID=Europe/Berlin:20260831T190000
DTEND;TZID=Europe/Berlin:20260831T210000
DTSTAMP:20260423T183902
CREATED:20251130T104940Z
LAST-MODIFIED:20251130T104940Z
UID:6583-1788202800-1788210000@schuetzenverein-elsenfeld.de
SUMMARY:Training Bogensport Erwachsenen
DESCRIPTION:freies Training der Bogenabteilung für Erwachsene
URL:https://schuetzenverein-elsenfeld.de/termin/training-bogensport-erwachsenen-33/
CATEGORIES:Bogensport
END:VEVENT
BEGIN:VEVENT
DTSTART;TZID=Europe/Berlin:20260901T190000
DTEND;TZID=Europe/Berlin:20260901T220000
DTSTAMP:20260423T183902
CREATED:20251130T114142Z
LAST-MODIFIED:20251130T114143Z
UID:6900-1788289200-1788300000@schuetzenverein-elsenfeld.de
SUMMARY:Training BDS Schützengruppe GK/KK
DESCRIPTION:Training BDS Schützengruppe Elsenfeld (KK&GK)
URL:https://schuetzenverein-elsenfeld.de/termin/training-bds-schuetzengruppe-gk-kk-86/
LOCATION:Schützenhaus – Schießhalle\, Schützenhausstraße 1\, Elsenfeld\, 63820\, Deutschland
CATEGORIES:BDS Schützengruppe
END:VEVENT
BEGIN:VEVENT
DTSTART;TZID=Europe/Berlin:20260902T193000
DTEND;TZID=Europe/Berlin:20260902T210000
DTSTAMP:20260423T183902
CREATED:20251130T110709Z
LAST-MODIFIED:20251130T110709Z
UID:6692-1788377400-1788382800@schuetzenverein-elsenfeld.de
SUMMARY:Training Bogensport Erwachsene
DESCRIPTION:freies Training der Bogenabteilung für Erwachsene
URL:https://schuetzenverein-elsenfeld.de/termin/training-bogensport-erwachsene-309/
CATEGORIES:Bogensport
END:VEVENT
BEGIN:VEVENT
DTSTART;TZID=Europe/Berlin:20260903T200000
DTEND;TZID=Europe/Berlin:20260903T220000
DTSTAMP:20260423T183902
CREATED:20251130T115707Z
LAST-MODIFIED:20251130T115707Z
UID:7030-1788465600-1788472800@schuetzenverein-elsenfeld.de
SUMMARY:Training Sport/Luftpistole Erwachsene
DESCRIPTION:Training der Sport/Luftpistole (Erwachsene)
URL:https://schuetzenverein-elsenfeld.de/termin/training-sport-luftpistole-erwachsene-180/
LOCATION:Schützenhaus – Schießhalle\, Schützenhausstraße 1\, Elsenfeld\, 63820\, Deutschland
CATEGORIES:Luftpistole
END:VEVENT
BEGIN:VEVENT
DTSTART;TZID=Europe/Berlin:20260905T150000
DTEND;TZID=Europe/Berlin:20260905T180000
DTSTAMP:20260423T183902
CREATED:20251130T113025Z
LAST-MODIFIED:20251130T113025Z
UID:6798-1788620400-1788631200@schuetzenverein-elsenfeld.de
SUMMARY:Training Bogensport Erwachsene
DESCRIPTION:freies Training der Bogenabteilung für Erwachsene
URL:https://schuetzenverein-elsenfeld.de/termin/training-bogensport-erwachsene-408/
CATEGORIES:Bogensport
END:VEVENT
BEGIN:VEVENT
DTSTART;TZID=Europe/Berlin:20260907T190000
DTEND;TZID=Europe/Berlin:20260907T210000
DTSTAMP:20260423T183902
CREATED:20251130T104940Z
LAST-MODIFIED:20251130T104940Z
UID:6584-1788807600-1788814800@schuetzenverein-elsenfeld.de
SUMMARY:Training Bogensport Erwachsenen
DESCRIPTION:freies Training der Bogenabteilung für Erwachsene
URL:https://schuetzenverein-elsenfeld.de/termin/training-bogensport-erwachsenen-34/
CATEGORIES:Bogensport
END:VEVENT
BEGIN:VEVENT
DTSTART;TZID=Europe/Berlin:20260908T190000
DTEND;TZID=Europe/Berlin:20260908T220000
DTSTAMP:20260423T183902
CREATED:20251130T114143Z
LAST-MODIFIED:20251130T114144Z
UID:6901-1788894000-1788904800@schuetzenverein-elsenfeld.de
SUMMARY:Training BDS Schützengruppe GK/KK
DESCRIPTION:Training BDS Schützengruppe Elsenfeld (KK&GK)
URL:https://schuetzenverein-elsenfeld.de/termin/training-bds-schuetzengruppe-gk-kk-87/
LOCATION:Schützenhaus – Schießhalle\, Schützenhausstraße 1\, Elsenfeld\, 63820\, Deutschland
CATEGORIES:BDS Schützengruppe
END:VEVENT
BEGIN:VEVENT
DTSTART;TZID=Europe/Berlin:20260909T193000
DTEND;TZID=Europe/Berlin:20260909T210000
DTSTAMP:20260423T183902
CREATED:20251130T110910Z
LAST-MODIFIED:20251130T110910Z
UID:6693-1788982200-1788987600@schuetzenverein-elsenfeld.de
SUMMARY:Training Bogensport Erwachsene
DESCRIPTION:freies Training der Bogenabteilung für Erwachsene
URL:https://schuetzenverein-elsenfeld.de/termin/training-bogensport-erwachsene-310/
CATEGORIES:Bogensport
END:VEVENT
BEGIN:VEVENT
DTSTART;TZID=Europe/Berlin:20260910T200000
DTEND;TZID=Europe/Berlin:20260910T220000
DTSTAMP:20260423T183902
CREATED:20251130T115707Z
LAST-MODIFIED:20251130T115707Z
UID:7031-1789070400-1789077600@schuetzenverein-elsenfeld.de
SUMMARY:Training Sport/Luftpistole Erwachsene
DESCRIPTION:Training der Sport/Luftpistole (Erwachsene)
URL:https://schuetzenverein-elsenfeld.de/termin/training-sport-luftpistole-erwachsene-181/
LOCATION:Schützenhaus – Schießhalle\, Schützenhausstraße 1\, Elsenfeld\, 63820\, Deutschland
CATEGORIES:Luftpistole
END:VEVENT
BEGIN:VEVENT
DTSTART;TZID=Europe/Berlin:20260912T100000
DTEND;TZID=Europe/Berlin:20260912T140000
DTSTAMP:20260423T183902
CREATED:20251030T161900Z
LAST-MODIFIED:20251030T162041Z
UID:6132-1789207200-1789221600@schuetzenverein-elsenfeld.de
SUMMARY:Arbeitseinsatz (Details folgen)
DESCRIPTION:Details zum Arbeitseinsatz werden über das Newsletter verteilt
URL:https://schuetzenverein-elsenfeld.de/termin/arbeitseinsatz-details-folgen-13/
LOCATION:Rund um das Schützenhaus\, Schützenhausstraße 1\, Else
CATEGORIES:Arbeitseinsatz,Termine 2026
ATTACH;FMTTYPE=image/jpeg:https://schuetzenverein-elsenfeld.de/wp-content/uploads/2025/01/Logo_DianaElsenfeld_16_9-e1736109150597.jpg
END:VEVENT
BEGIN:VEVENT
DTSTART;TZID=Europe/Berlin:20260912T150000
DTEND;TZID=Europe/Berlin:20260912T180000
DTSTAMP:20260423T183902
CREATED:20251130T113026Z
LAST-MODIFIED:20251130T113026Z
UID:6799-1789225200-1789236000@schuetzenverein-elsenfeld.de
SUMMARY:Training Bogensport Erwachsene
DESCRIPTION:freies Training der Bogenabteilung für Erwachsene
URL:https://schuetzenverein-elsenfeld.de/termin/training-bogensport-erwachsene-409/
CATEGORIES:Bogensport
END:VEVENT
BEGIN:VEVENT
DTSTART;TZID=Europe/Berlin:20260914T190000
DTEND;TZID=Europe/Berlin:20260914T210000
DTSTAMP:20260423T183902
CREATED:20251130T104940Z
LAST-MODIFIED:20251130T104940Z
UID:6585-1789412400-1789419600@schuetzenverein-elsenfeld.de
SUMMARY:Training Bogensport Erwachsenen
DESCRIPTION:freies Training der Bogenabteilung für Erwachsene
URL:https://schuetzenverein-elsenfeld.de/termin/training-bogensport-erwachsenen-35/
CATEGORIES:Bogensport
END:VEVENT
BEGIN:VEVENT
DTSTART;TZID=Europe/Berlin:20260915T190000
DTEND;TZID=Europe/Berlin:20260915T220000
DTSTAMP:20260423T183902
CREATED:20251130T114157Z
LAST-MODIFIED:20251130T114158Z
UID:6907-1789498800-1789509600@schuetzenverein-elsenfeld.de
SUMMARY:Training BDS Schützengruppe GK/KK
DESCRIPTION:Training BDS Schützengruppe Elsenfeld (KK&GK)
URL:https://schuetzenverein-elsenfeld.de/termin/training-bds-schuetzengruppe-gk-kk-88/
LOCATION:Schützenhaus – Schießhalle\, Schützenhausstraße 1\, Elsenfeld\, 63820\, Deutschland
CATEGORIES:BDS Schützengruppe
END:VEVENT
BEGIN:VEVENT
DTSTART;TZID=Europe/Berlin:20260916T180000
DTEND;TZID=Europe/Berlin:20260916T193000
DTSTAMP:20260423T183902
CREATED:20251130T100759Z
LAST-MODIFIED:20251130T100759Z
UID:6305-1789581600-1789587000@schuetzenverein-elsenfeld.de
SUMMARY:Jugendtraining Bogensport
DESCRIPTION:Training der Bogenabteilung für Jugendliche bis 18 Jahre unter Anleitung eines erwachsenen Trainers (VÜL)
URL:https://schuetzenverein-elsenfeld.de/termin/jugendtraining-bogensport-107/
CATEGORIES:Bogensport
END:VEVENT
END:VCALENDAR