BEGIN:VCALENDAR
VERSION:2.0
PRODID:-//schuetzenverein-elsenfeld.de - ECPv6.15.20//NONSGML v1.0//EN
CALSCALE:GREGORIAN
METHOD:PUBLISH
X-ORIGINAL-URL:https://schuetzenverein-elsenfeld.de
X-WR-CALDESC:Veranstaltungen für schuetzenverein-elsenfeld.de
REFRESH-INTERVAL;VALUE=DURATION:PT1H
X-Robots-Tag:noindex
X-PUBLISHED-TTL:PT1H
BEGIN:VTIMEZONE
TZID:Europe/Berlin
BEGIN:DAYLIGHT
TZOFFSETFROM:+0100
TZOFFSETTO:+0200
TZNAME:CEST
DTSTART:20230326T010000
END:DAYLIGHT
BEGIN:STANDARD
TZOFFSETFROM:+0200
TZOFFSETTO:+0100
TZNAME:CET
DTSTART:20231029T010000
END:STANDARD
BEGIN:DAYLIGHT
TZOFFSETFROM:+0100
TZOFFSETTO:+0200
TZNAME:CEST
DTSTART:20240331T010000
END:DAYLIGHT
BEGIN:STANDARD
TZOFFSETFROM:+0200
TZOFFSETTO:+0100
TZNAME:CET
DTSTART:20241027T010000
END:STANDARD
BEGIN:DAYLIGHT
TZOFFSETFROM:+0100
TZOFFSETTO:+0200
TZNAME:CEST
DTSTART:20250330T010000
END:DAYLIGHT
BEGIN:STANDARD
TZOFFSETFROM:+0200
TZOFFSETTO:+0100
TZNAME:CET
DTSTART:20251026T010000
END:STANDARD
END:VTIMEZONE
BEGIN:VEVENT
DTSTART;TZID=Europe/Berlin:20241012T100000
DTEND;TZID=Europe/Berlin:20241012T200000
DTSTAMP:20260421T103335
CREATED:20240906T161623Z
LAST-MODIFIED:20241003T175114Z
UID:2913-1728727200-1728763200@schuetzenverein-elsenfeld.de
SUMMARY:Ortsmeisterschaft Bogenschießen
DESCRIPTION:An alle Interessierte aus Vereinen oder sonstige Teams\, die gerne mal Bogenschießen wollen!\nTeilnahmebedingungen: \n\nEine Mannschaft besteht aus 3-5 Personen\nGeschossen werden 3 Passen mit je 6 Pfeilen\nDie Ergebnisse der drei besten Schützen je Team werden gewertet\nStartgeld pro Person 5EUR\nTeilnehmer sind keine aktiven Bogenschützen (Teilnehmer an Rundenwettkämpfen)\ngeschossen wird mit Blankbogen ohne Visier\, Compound-Bögen sind nicht erlaubt\n\nAusrüstung (Pfeile\, Armschutz\, etc.) kann vom Verein gestellt oder selbst mitgebracht werden.\nInteressierte melden sich bitte bei info@schuetzenverein-elsenfeld.de \nAnmeldeschluss ist der 31. August 2024. \nDie gemeldeten Teams können im September nach Rücksprache während der Trainingszeiten im Schützenhaus für die Ortsmeisterschaft üben. \nWir freuen uns über viele interessierte Teams und eine spannende Ortsmeisterschaft!\nUnd hier jetzt die Einteilung der Teams: \n\n\n\nSchießzeiten\n\nSchießline R\nSchießline L\n\n\nSamstag\, 12.10.24\n10:00\nLoewe Fenster Team 1 (3)\nLoewe Fenster Team 2 (3)\n\n\n\n11:00\nLoewe Fenster Team 3 (3)\nLoewe Fenster Team 4 (3)\n\n\n\n\n\n\n\n\n\n13:00\nHansa Rostcock 69 Team 1 (5)\nElsava Elsenfeld. Team 1\n\n\n\n14:00\nHansa Rostcock 69 Team 2 (5)\nElsava Elsenfeld Team 2\n\n\n\n15:00\nHansa Rostcock 69 Team 3 (4)\nElsava Elsenfeld Team 3\n\n\n\n16:00\nRobin und die Hoods (5)\nUBV (5)\n\n\n\n\n\n\n\n\n\n\nSchießline R\nSchießline L\n\n\nSonntag\, 13.10.24\n10:00\n4 fantastische 5 (5)\nReifen Müller\n\n\n\n11:00\nTVE Tischtennis (5)\nRobin Jott & Buddies (3)\n\n\n\n\n\n\n\n\n\n13:00\nFeuerwehr Elsenfeld  Team 1 (3)\nMusikverein Concordia Team 1\n\n\n\n14:00\nFeuerwehr Elsenfeld  Team 2 (3)\nMusikvereinConcordia Team 2\n\n\n\n15:00\nFeuerwehr Elsenfeld  Team 3 (4)\nFeuerwehr Elsenfeld  Team 4 (4)\n\n\n\n16:00\nGrillfreunde Elsenfeld  (5)\n\n\n\n\n17:00\nSiegerehrung
URL:https://schuetzenverein-elsenfeld.de/termin/ortsmeisterschaft-bogenschiessen/
LOCATION:Schützenhaus\, Schützenhausstraße 1\, Elsenfeld\, 63820\, Deutschland
CATEGORIES:Bogensport,Ortsmeisterschaft,Termine 2024
ATTACH;FMTTYPE=image/jpeg:https://schuetzenverein-elsenfeld.de/wp-content/uploads/2024/02/Schiesslinie_03-scaled.jpg
END:VEVENT
END:VCALENDAR